BEGIN:VCALENDAR
VERSION:2.0
PRODID:-//Aiken Church of Christ - ECPv6.15.20//NONSGML v1.0//EN
CALSCALE:GREGORIAN
METHOD:PUBLISH
X-ORIGINAL-URL:https://aikencoc.com
X-WR-CALDESC:Events for Aiken Church of Christ
REFRESH-INTERVAL;VALUE=DURATION:PT1H
X-Robots-Tag:noindex
X-PUBLISHED-TTL:PT1H
BEGIN:VTIMEZONE
TZID:America/New_York
BEGIN:DAYLIGHT
TZOFFSETFROM:-0500
TZOFFSETTO:-0400
TZNAME:EDT
DTSTART:20250309T070000
END:DAYLIGHT
BEGIN:STANDARD
TZOFFSETFROM:-0400
TZOFFSETTO:-0500
TZNAME:EST
DTSTART:20251102T060000
END:STANDARD
BEGIN:DAYLIGHT
TZOFFSETFROM:-0500
TZOFFSETTO:-0400
TZNAME:EDT
DTSTART:20260308T070000
END:DAYLIGHT
BEGIN:STANDARD
TZOFFSETFROM:-0400
TZOFFSETTO:-0500
TZNAME:EST
DTSTART:20261101T060000
END:STANDARD
BEGIN:DAYLIGHT
TZOFFSETFROM:-0500
TZOFFSETTO:-0400
TZNAME:EDT
DTSTART:20270314T070000
END:DAYLIGHT
BEGIN:STANDARD
TZOFFSETFROM:-0400
TZOFFSETTO:-0500
TZNAME:EST
DTSTART:20271107T060000
END:STANDARD
END:VTIMEZONE
BEGIN:VEVENT
DTSTART;TZID=America/New_York:20260201T120000
DTEND;TZID=America/New_York:20260201T170000
DTSTAMP:20260423T151309
CREATED:20251222T151544Z
LAST-MODIFIED:20251222T151544Z
UID:3953-1769947200-1769965200@aikencoc.com
SUMMARY:Potlucks
DESCRIPTION:The first potluck of the new year is scheduled for Sunday\, February 1.
URL:https://aikencoc.com/event/potlucks/
LOCATION:Aiken Church of Christ\, 134 Rinehart Way\, Aiken\, SC\, 29803\, United States
END:VEVENT
BEGIN:VEVENT
DTSTART;TZID=America/New_York:20260207T080000
DTEND;TZID=America/New_York:20260207T170000
DTSTAMP:20260423T151309
CREATED:20251117T192811Z
LAST-MODIFIED:20260202T180651Z
UID:3828-1770451200-1770483600@aikencoc.com
SUMMARY:Wise Youts Rally 2026
DESCRIPTION:We will be having another annual Wise Youts Rally date has been moved to February 7th at the Aiken Church of Christ.  The speaker is Aaron Gallagher.  Signup sheet is on the round table in the foyer\, and you must signup.  The cost is $35.00 per person which covers lunch and a T-shirt. \nEPSON MFP image\nWise Youts Rally Flyer 2026
URL:https://aikencoc.com/event/wise-youts-rally-2026/
LOCATION:Aiken Church of Christ\, 134 Rinehart Way\, Aiken\, SC\, 29803\, United States
END:VEVENT
BEGIN:VEVENT
DTSTART;TZID=America/New_York:20260214T173000
DTEND;TZID=America/New_York:20260214T200000
DTSTAMP:20260423T151309
CREATED:20260119T151449Z
LAST-MODIFIED:20260119T151449Z
UID:4023-1771090200-1771099200@aikencoc.com
SUMMARY:Palentines Dinner
DESCRIPTION:The Palentines Dinner will be held Saturday 2/14\, at 5:30 p.m.  A signup sheet is on the round table in the foyer.
URL:https://aikencoc.com/event/palentines-dinner-2/
LOCATION:Aiken Church of Christ\, 134 Rinehart Way\, Aiken\, SC\, 29803\, United States
END:VEVENT
BEGIN:VEVENT
DTSTART;TZID=America/New_York:20260220T080000
DTEND;TZID=America/New_York:20260222T170000
DTSTAMP:20260423T151309
CREATED:20260209T142736Z
LAST-MODIFIED:20260209T142736Z
UID:4057-1771574400-1771779600@aikencoc.com
SUMMARY:Living With Loss Workshop
DESCRIPTION:Central Church of Christ is hosting a workshop on Living with Loss on February 20 through February 22.  The speaker is Dean Miller.  There is a flyer on the bulletin board and Slack post.
URL:https://aikencoc.com/event/living-with-loss-workshop/
LOCATION:Central Church of Christ
END:VEVENT
END:VCALENDAR