BEGIN:VCALENDAR
VERSION:2.0
PRODID:-//Aiken Church of Christ - ECPv6.15.20//NONSGML v1.0//EN
CALSCALE:GREGORIAN
METHOD:PUBLISH
X-WR-CALNAME:Aiken Church of Christ
X-ORIGINAL-URL:https://aikencoc.com
X-WR-CALDESC:Events for Aiken Church of Christ
REFRESH-INTERVAL;VALUE=DURATION:PT1H
X-Robots-Tag:noindex
X-PUBLISHED-TTL:PT1H
BEGIN:VTIMEZONE
TZID:America/New_York
BEGIN:DAYLIGHT
TZOFFSETFROM:-0500
TZOFFSETTO:-0400
TZNAME:EDT
DTSTART:20240310T070000
END:DAYLIGHT
BEGIN:STANDARD
TZOFFSETFROM:-0400
TZOFFSETTO:-0500
TZNAME:EST
DTSTART:20241103T060000
END:STANDARD
BEGIN:DAYLIGHT
TZOFFSETFROM:-0500
TZOFFSETTO:-0400
TZNAME:EDT
DTSTART:20250309T070000
END:DAYLIGHT
BEGIN:STANDARD
TZOFFSETFROM:-0400
TZOFFSETTO:-0500
TZNAME:EST
DTSTART:20251102T060000
END:STANDARD
BEGIN:DAYLIGHT
TZOFFSETFROM:-0500
TZOFFSETTO:-0400
TZNAME:EDT
DTSTART:20260308T070000
END:DAYLIGHT
BEGIN:STANDARD
TZOFFSETFROM:-0400
TZOFFSETTO:-0500
TZNAME:EST
DTSTART:20261101T060000
END:STANDARD
END:VTIMEZONE
BEGIN:VEVENT
DTSTART;TZID=America/New_York:20250208T173000
DTEND;TZID=America/New_York:20250208T193000
DTSTAMP:20260424T085056
CREATED:20250122T151447Z
LAST-MODIFIED:20250122T151447Z
UID:2766-1739035800-1739043000@aikencoc.com
SUMMARY:Palentines
DESCRIPTION:It is time once again to mark your calendars for Palentines.  This is an event we do every year to help older members to get to know the teens in our congregation.  Please sign up in the foyer for your opportunity to get to have dinner with and get to know some of our teens.
URL:https://aikencoc.com/event/palentines/
LOCATION:Aiken Church of Christ\, 134 Rinehart Way\, Aiken\, SC\, 29803\, United States
END:VEVENT
BEGIN:VEVENT
DTSTART;TZID=America/New_York:20250211T080000
DTEND;TZID=America/New_York:20250211T170000
DTSTAMP:20260424T085056
CREATED:20250211T200523Z
LAST-MODIFIED:20250211T200523Z
UID:2843-1739260800-1739293200@aikencoc.com
SUMMARY:Lead Me To Rest Women's Retreat
DESCRIPTION:There will be a women’s retreat at Palmetto Bible Camp with the theme “Lead Me To Rest”.   There are flyers on the round table in the foyer with more information.  Registration is open.  To register please go to http://www.pbc.camp/camp-weeks/renew-womans-retreat/ \n 
URL:https://aikencoc.com/event/lead-me-to-rest-womens-retreat/
END:VEVENT
END:VCALENDAR