BEGIN:VCALENDAR
VERSION:2.0
PRODID:-//Aiken Church of Christ - ECPv6.15.20//NONSGML v1.0//EN
CALSCALE:GREGORIAN
METHOD:PUBLISH
X-WR-CALNAME:Aiken Church of Christ
X-ORIGINAL-URL:https://aikencoc.com
X-WR-CALDESC:Events for Aiken Church of Christ
REFRESH-INTERVAL;VALUE=DURATION:PT1H
X-Robots-Tag:noindex
X-PUBLISHED-TTL:PT1H
BEGIN:VTIMEZONE
TZID:America/New_York
BEGIN:DAYLIGHT
TZOFFSETFROM:-0500
TZOFFSETTO:-0400
TZNAME:EDT
DTSTART:20230312T070000
END:DAYLIGHT
BEGIN:STANDARD
TZOFFSETFROM:-0400
TZOFFSETTO:-0500
TZNAME:EST
DTSTART:20231105T060000
END:STANDARD
BEGIN:DAYLIGHT
TZOFFSETFROM:-0500
TZOFFSETTO:-0400
TZNAME:EDT
DTSTART:20240310T070000
END:DAYLIGHT
BEGIN:STANDARD
TZOFFSETFROM:-0400
TZOFFSETTO:-0500
TZNAME:EST
DTSTART:20241103T060000
END:STANDARD
BEGIN:DAYLIGHT
TZOFFSETFROM:-0500
TZOFFSETTO:-0400
TZNAME:EDT
DTSTART:20250309T070000
END:DAYLIGHT
BEGIN:STANDARD
TZOFFSETFROM:-0400
TZOFFSETTO:-0500
TZNAME:EST
DTSTART:20251102T060000
END:STANDARD
END:VTIMEZONE
BEGIN:VEVENT
DTSTART;TZID=America/New_York:20241207T100000
DTEND;TZID=America/New_York:20241207T130000
DTSTAMP:20260424T120827
CREATED:20241118T142157Z
LAST-MODIFIED:20241118T143043Z
UID:2616-1733565600-1733576400@aikencoc.com
SUMMARY:Women's Annual Ornament Exchange and Brunch
DESCRIPTION:On Saturday December 7th at 10:00 AM the women will be gathering to eat a brunch and exchange Christmas ornaments.  Bring a wrapped ornament or Christmas decoration costing between $10 and $15 dollars.  Also bring your favorite brunch dish.  The signup sheet is in the foyer.  See Leta Harvel for more information. \n 
URL:https://aikencoc.com/event/womens-annual-ornament-exchange-and-brunch/
LOCATION:Aiken Church of Christ\, 134 Rinehart Way\, Aiken\, SC\, 29803\, United States
END:VEVENT
BEGIN:VEVENT
DTSTART;TZID=America/New_York:20241214T090000
DTEND;TZID=America/New_York:20241214T120000
DTSTAMP:20260424T120827
CREATED:20241118T143732Z
LAST-MODIFIED:20241203T153844Z
UID:2620-1734166800-1734177600@aikencoc.com
SUMMARY:Pancakes with Santa
DESCRIPTION:This is for children 6th grade or younger.  There is a signup sheet on the foyer table closest to the activity hall.  There are also some invitation cards to invite your friends\, family\, and neighbors.  See Mark or Erica Goldy for more information.
URL:https://aikencoc.com/event/pancakes-with-santa/
LOCATION:Aiken Church of Christ\, 134 Rinehart Way\, Aiken\, SC\, 29803\, United States
END:VEVENT
END:VCALENDAR