BEGIN:VCALENDAR
VERSION:2.0
PRODID:-//Aiken Church of Christ - ECPv6.15.20//NONSGML v1.0//EN
CALSCALE:GREGORIAN
METHOD:PUBLISH
X-WR-CALNAME:Aiken Church of Christ
X-ORIGINAL-URL:https://aikencoc.com
X-WR-CALDESC:Events for Aiken Church of Christ
REFRESH-INTERVAL;VALUE=DURATION:PT1H
X-Robots-Tag:noindex
X-PUBLISHED-TTL:PT1H
BEGIN:VTIMEZONE
TZID:America/New_York
BEGIN:DAYLIGHT
TZOFFSETFROM:-0500
TZOFFSETTO:-0400
TZNAME:EDT
DTSTART:20230312T070000
END:DAYLIGHT
BEGIN:STANDARD
TZOFFSETFROM:-0400
TZOFFSETTO:-0500
TZNAME:EST
DTSTART:20231105T060000
END:STANDARD
BEGIN:DAYLIGHT
TZOFFSETFROM:-0500
TZOFFSETTO:-0400
TZNAME:EDT
DTSTART:20240310T070000
END:DAYLIGHT
BEGIN:STANDARD
TZOFFSETFROM:-0400
TZOFFSETTO:-0500
TZNAME:EST
DTSTART:20241103T060000
END:STANDARD
BEGIN:DAYLIGHT
TZOFFSETFROM:-0500
TZOFFSETTO:-0400
TZNAME:EDT
DTSTART:20250309T070000
END:DAYLIGHT
BEGIN:STANDARD
TZOFFSETFROM:-0400
TZOFFSETTO:-0500
TZNAME:EST
DTSTART:20251102T060000
END:STANDARD
END:VTIMEZONE
BEGIN:VEVENT
DTSTART;TZID=America/New_York:20240414T170000
DTEND;TZID=America/New_York:20240414T180000
DTSTAMP:20260424T233009
CREATED:20240321T140657Z
LAST-MODIFIED:20240407T192017Z
UID:2110-1713114000-1713117600@aikencoc.com
SUMMARY:VBS interest meeting
DESCRIPTION:Vacation Bible School is scheduled for Saturday June 22nd. \nCome to the meeting on Sunday\, April 14 at 5:00 PM if you are interested in participating. \nThere is something we can all do this year! \nCome to the meeting and find out what that is.
URL:https://aikencoc.com/event/vbs-interest-meeting/
LOCATION:Aiken Church of Christ\, 134 Rinehart Way\, Aiken\, SC\, 29803\, United States
END:VEVENT
BEGIN:VEVENT
DTSTART;TZID=America/New_York:20240420T080000
DTEND;TZID=America/New_York:20240420T170000
DTSTAMP:20260424T233009
CREATED:20240220T170238Z
LAST-MODIFIED:20240220T170307Z
UID:2013-1713600000-1713632400@aikencoc.com
SUMMARY:Ladies Day at Seneca Church of Christ
DESCRIPTION:Ladies Day at Seneca Church of Christ
URL:https://aikencoc.com/event/ladies-day/
END:VEVENT
BEGIN:VEVENT
DTSTART;TZID=America/New_York:20240420T110000
DTEND;TZID=America/New_York:20240420T130000
DTSTAMP:20260424T233009
CREATED:20240205T114755Z
LAST-MODIFIED:20240407T192237Z
UID:1932-1713610800-1713618000@aikencoc.com
SUMMARY:Pizza Pie and Tie-Dye
DESCRIPTION:Piza pie and Tie dye!! \nWe will provide the dye\, you bring an item to dye.  Pizza is included. \nAges pre-K to 12th grade. \nSign-up sheet is on the table in the foyer. \nPARENTS MUST STAY WITH THEIR CHILD!
URL:https://aikencoc.com/event/pizza-pie-and-tie-dye/
LOCATION:Aiken Church of Christ\, 134 Rinehart Way\, Aiken\, SC\, 29803\, United States
END:VEVENT
BEGIN:VEVENT
DTSTART;TZID=America/New_York:20240421T081500
DTEND;TZID=America/New_York:20240421T091500
DTSTAMP:20260424T233009
CREATED:20240405T141848Z
LAST-MODIFIED:20240407T192719Z
UID:2145-1713687300-1713690900@aikencoc.com
SUMMARY:Family Breakfast for the Congregation
DESCRIPTION:Sunday April 21 8:15 am – 9:15 am.  Please sign up on the sheet in the foyer so the church men will know how much food to prepare.  Breakfast will be over in time for class to begin. \nBreakfast generally consists of: Scrambled eggs\, Bacon\, Sausage\, Milk\, Juice\, Coffee. \nSee Caleb Smotherman or Mark Cox with any questions or if you want to volunteer to help.
URL:https://aikencoc.com/event/family-breakfast-for-the-congregation/
LOCATION:Aiken Church of Christ\, 134 Rinehart Way\, Aiken\, SC\, 29803\, United States
END:VEVENT
BEGIN:VEVENT
DTSTART;TZID=America/New_York:20240427T100000
DTEND;TZID=America/New_York:20240427T120000
DTSTAMP:20260424T233009
CREATED:20240405T140741Z
LAST-MODIFIED:20240405T140741Z
UID:2143-1714212000-1714219200@aikencoc.com
SUMMARY:Women's day of encouragement
DESCRIPTION:Women’s day of encouragement.  Come be encouraged by encouraging others!
URL:https://aikencoc.com/event/womens-day-of-encouragement/
LOCATION:Aiken Church of Christ\, 134 Rinehart Way\, Aiken\, SC\, 29803\, United States
END:VEVENT
END:VCALENDAR