BEGIN:VCALENDAR
VERSION:2.0
PRODID:-//Aiken Church of Christ - ECPv6.15.20//NONSGML v1.0//EN
CALSCALE:GREGORIAN
METHOD:PUBLISH
X-WR-CALNAME:Aiken Church of Christ
X-ORIGINAL-URL:https://aikencoc.com
X-WR-CALDESC:Events for Aiken Church of Christ
REFRESH-INTERVAL;VALUE=DURATION:PT1H
X-Robots-Tag:noindex
X-PUBLISHED-TTL:PT1H
BEGIN:VTIMEZONE
TZID:America/New_York
BEGIN:DAYLIGHT
TZOFFSETFROM:-0500
TZOFFSETTO:-0400
TZNAME:EDT
DTSTART:20220313T070000
END:DAYLIGHT
BEGIN:STANDARD
TZOFFSETFROM:-0400
TZOFFSETTO:-0500
TZNAME:EST
DTSTART:20221106T060000
END:STANDARD
BEGIN:DAYLIGHT
TZOFFSETFROM:-0500
TZOFFSETTO:-0400
TZNAME:EDT
DTSTART:20230312T070000
END:DAYLIGHT
BEGIN:STANDARD
TZOFFSETFROM:-0400
TZOFFSETTO:-0500
TZNAME:EST
DTSTART:20231105T060000
END:STANDARD
BEGIN:DAYLIGHT
TZOFFSETFROM:-0500
TZOFFSETTO:-0400
TZNAME:EDT
DTSTART:20240310T070000
END:DAYLIGHT
BEGIN:STANDARD
TZOFFSETFROM:-0400
TZOFFSETTO:-0500
TZNAME:EST
DTSTART:20241103T060000
END:STANDARD
BEGIN:DAYLIGHT
TZOFFSETFROM:-0500
TZOFFSETTO:-0400
TZNAME:EDT
DTSTART:20250309T070000
END:DAYLIGHT
BEGIN:STANDARD
TZOFFSETFROM:-0400
TZOFFSETTO:-0500
TZNAME:EST
DTSTART:20251102T060000
END:STANDARD
END:VTIMEZONE
BEGIN:VEVENT
DTSTART;TZID=America/New_York:20240203T093000
DTEND;TZID=America/New_York:20240203T133000
DTSTAMP:20260424T105033
CREATED:20240112T204720Z
LAST-MODIFIED:20240112T204720Z
UID:1854-1706952600-1706967000@aikencoc.com
SUMMARY:3rd Annual Women's Brunch
DESCRIPTION:The Third Annual Women’s Brunch will be held at the church building on February 3rd at 9:30 AM.  This is an opportunity to fellowship and to sign up for ministries that you have a desire to participate in. \nThere will be a signup sheet in the foyer.
URL:https://aikencoc.com/event/3rd-annual-womens-brunch/
LOCATION:Aiken Church of Christ\, 134 Rinehart Way\, Aiken\, SC\, 29803\, United States
END:VEVENT
BEGIN:VEVENT
DTSTART;TZID=America/New_York:20240120T080000
DTEND;TZID=America/New_York:20240120T120000
DTSTAMP:20260424T105033
CREATED:20240112T205312Z
LAST-MODIFIED:20240112T205312Z
UID:1856-1705737600-1705752000@aikencoc.com
SUMMARY:Men's Breakfast
DESCRIPTION:The next men’s breakfast will be held on Saturday January 20 at 8:00 AM.  Bring a friend.
URL:https://aikencoc.com/event/mens-breakfast-2/
LOCATION:Aiken Church of Christ\, 134 Rinehart Way\, Aiken\, SC\, 29803\, United States
END:VEVENT
BEGIN:VEVENT
DTSTART;TZID=America/New_York:20231231T120000
DTEND;TZID=America/New_York:20231231T150000
DTSTAMP:20260424T105033
CREATED:20231218T165842Z
LAST-MODIFIED:20231218T165842Z
UID:1816-1704024000-1704034800@aikencoc.com
SUMMARY:Fifth Sunday Potluck
DESCRIPTION:This month’s potluck lunch is on December 31 immediately after morning worship.  Bring your favorite dish and spend time in fellowship with everyone.
URL:https://aikencoc.com/event/fifth-sunday-potluck/
LOCATION:Aiken Church of Christ\, 134 Rinehart Way\, Aiken\, SC\, 29803\, United States
END:VEVENT
BEGIN:VEVENT
DTSTART;VALUE=DATE:20231216
DTEND;VALUE=DATE:20231217
DTSTAMP:20260424T105033
CREATED:20230528T194655Z
LAST-MODIFIED:20230528T194655Z
UID:1118-1702684800-1702771199@aikencoc.com
SUMMARY:December Womens Day of Encouragement
DESCRIPTION:We also have a monthly day of encouragement where we meet to write cards\, make contact plans and pray for family members that have a special occasion or challenge they are facing.
URL:https://aikencoc.com/event/december-womens-day-of-encouragement/
LOCATION:SC
END:VEVENT
BEGIN:VEVENT
DTSTART;TZID=America/New_York:20231208T173000
DTEND;TZID=America/New_York:20231208T203000
DTSTAMP:20260424T105033
CREATED:20231128T140501Z
LAST-MODIFIED:20231128T140501Z
UID:1763-1702056600-1702067400@aikencoc.com
SUMMARY:Parents Night Out
DESCRIPTION:For kids ages 2 to the 6th grade.  Sign-up sheet is in the foyer.  See Bob King for more information.
URL:https://aikencoc.com/event/parents-night-out/
LOCATION:Aiken Church of Christ\, 134 Rinehart Way\, Aiken\, SC\, 29803\, United States
END:VEVENT
BEGIN:VEVENT
DTSTART;TZID=America/New_York:20231203T150000
DTEND;TZID=America/New_York:20231203T170000
DTSTAMP:20260424T105033
CREATED:20231128T135244Z
LAST-MODIFIED:20231128T135551Z
UID:1757-1701615600-1701622800@aikencoc.com
SUMMARY:Baby Shower for Becca Nichols
DESCRIPTION:Becca is registered at Target and Amazon.
URL:https://aikencoc.com/event/baby-shower-for-becca-nichols/
LOCATION:Aiken Church of Christ\, 134 Rinehart Way\, Aiken\, SC\, 29803\, United States
END:VEVENT
BEGIN:VEVENT
DTSTART;TZID=America/New_York:20231202T100000
DTEND;TZID=America/New_York:20231202T120000
DTSTAMP:20260424T105033
CREATED:20231107T225455Z
LAST-MODIFIED:20231128T140041Z
UID:1673-1701511200-1701518400@aikencoc.com
SUMMARY:Annual Women's Christmas Brunch
DESCRIPTION:SATURDAY\, DECEMBER 2\, 10 a.m.\, ANNUAL WOMENS CHRISTMAS BRUNCH & DIRTY SANTA \nPlease bring a brunch item\, and any type of wrapped Christmas decoration ($10-$15).  Last year we had ornaments\, gnomes\, snowmen\, etc.!  It’s always fun.  The sign-up sheet is on the foyer table.  If you have any questions\, please see Leta Harvel
URL:https://aikencoc.com/event/annual-womens-christmas-brunch/
LOCATION:Aiken Church of Christ\, 134 Rinehart Way\, Aiken\, SC\, 29803\, United States
END:VEVENT
BEGIN:VEVENT
DTSTART;VALUE=DATE:20231118
DTEND;VALUE=DATE:20231119
DTSTAMP:20260424T105033
CREATED:20230528T194512Z
LAST-MODIFIED:20230528T194512Z
UID:1116-1700265600-1700351999@aikencoc.com
SUMMARY:November Womens Day of Encouragement
DESCRIPTION:We also have a monthly day of encouragement where we meet to write cards\, make contact plans and pray for family members that have a special occasion or challenge they are facing.
URL:https://aikencoc.com/event/november-womens-day-of-encouragement/
LOCATION:SC
END:VEVENT
BEGIN:VEVENT
DTSTART;TZID=America/New_York:20231111T090000
DTEND;TZID=America/New_York:20231111T120000
DTSTAMP:20260424T105033
CREATED:20231107T225101Z
LAST-MODIFIED:20231107T225108Z
UID:1669-1699693200-1699704000@aikencoc.com
SUMMARY:Fall Church Work Day\, November 11 @ 9:00 AM
DESCRIPTION:Come celebrate the blessing of having this wonderful building and grounds by sprucing it all up for the fall!  We will have jobs for everyone! Coffee and donuts will be waiting for you!  Bring your tools\, yard tools\, blowers\, etc.  It’s going to be a great day!
URL:https://aikencoc.com/event/fall-church-work-day-november-11-900-am/
LOCATION:Aiken Church of Christ\, 134 Rinehart Way\, Aiken\, SC\, 29803\, United States
END:VEVENT
BEGIN:VEVENT
DTSTART;TZID=America/New_York:20231110T180000
DTEND;TZID=America/New_York:20231110T220000
DTSTAMP:20260424T105033
CREATED:20230824T142953Z
LAST-MODIFIED:20230824T143332Z
UID:1377-1699639200-1699653600@aikencoc.com
SUMMARY:HOBO FEST AND BONFIRE
DESCRIPTION:NOVEMBER 10th is the date for the annual HOBO FEST and BONFIRE.  More details coming soon in the Sunday handout.
URL:https://aikencoc.com/event/hobo-fest-and-bonfire/
LOCATION:SC
END:VEVENT
BEGIN:VEVENT
DTSTART;TZID=America/New_York:20231028T180000
DTEND;TZID=America/New_York:20231028T200000
DTSTAMP:20260424T105033
CREATED:20230814T014859Z
LAST-MODIFIED:20231003T021122Z
UID:1354-1698516000-1698523200@aikencoc.com
SUMMARY:Trunk or Treat
DESCRIPTION:Wear your scariest costume and come join us for Trunk or Treat.
URL:https://aikencoc.com/event/trunk-or-treat/
LOCATION:SC
END:VEVENT
BEGIN:VEVENT
DTSTART;VALUE=DATE:20231028
DTEND;VALUE=DATE:20231029
DTSTAMP:20260424T105033
CREATED:20230528T193726Z
LAST-MODIFIED:20230528T193726Z
UID:1114-1698451200-1698537599@aikencoc.com
SUMMARY:October Womens Day of Encouragement
DESCRIPTION:We also have a monthly day of encouragement where we meet to write cards\, make contact plans and pray for family members that have a special occasion or challenge they are facing.
URL:https://aikencoc.com/event/october-womens-day-of-encouragement/
LOCATION:SC
END:VEVENT
BEGIN:VEVENT
DTSTART;TZID=America/New_York:20231021T090000
DTEND;TZID=America/New_York:20231021T110000
DTSTAMP:20260424T105033
CREATED:20230911T145834Z
LAST-MODIFIED:20230911T145834Z
UID:1461-1697878800-1697886000@aikencoc.com
SUMMARY:Car Checks for Women (Sign-up in the Foyer)
DESCRIPTION:The men are inviting all ladies\, single or married\, to eat breakfast and have THEIR car checked/cleaned (weather permitting). Please – you must sign up in the foyer in advance for a time slot so we know what and how many are coming. \n  \nChecks will include \n\nFluid levels (oil\, power steering\, coolant\, etc. – top off\, but no fluid changes)\nTire pressures and condition\nEngine computer codes\nLights\nGeneral condition\n\n  \nBreakfast begins at 8:00. Only cars driven by ladies will be checked. Ladies can drive their car to the car line for a car check and cleanup beginning at 9:00.
URL:https://aikencoc.com/event/car-checks-for-women-sign-up-in-the-foyer/
LOCATION:Aiken Church of Christ\, 134 Rinehart Way\, Aiken\, SC\, 29803\, United States
END:VEVENT
BEGIN:VEVENT
DTSTART;TZID=America/New_York:20231021T080000
DTEND;TZID=America/New_York:20231021T120000
DTSTAMP:20260424T105033
CREATED:20230904T013810Z
LAST-MODIFIED:20230911T145246Z
UID:1432-1697875200-1697889600@aikencoc.com
SUMMARY:Men's Breakfast
DESCRIPTION:Men will be having another breakfast\, fellowship\, and a devotional.  All men are welcome ages 2 to 102.  Bring a friend.
URL:https://aikencoc.com/event/mens-breakfast-and-car-checks/
LOCATION:Aiken Church of Christ\, 134 Rinehart Way\, Aiken\, SC\, 29803\, United States
ATTACH;FMTTYPE=image/jpeg:https://aikencoc.com/wp-content/uploads/2023/09/bacon_900x1200-e1693793014175.jpg
END:VEVENT
BEGIN:VEVENT
DTSTART;TZID=America/New_York:20231006T180000
DTEND;TZID=America/New_York:20231006T200000
DTSTAMP:20260424T105033
CREATED:20230918T121752Z
LAST-MODIFIED:20230918T121848Z
UID:1473-1696615200-1696622400@aikencoc.com
SUMMARY:Kids Game Night (With Pizza)
DESCRIPTION:Kids Game Night with pizza.  Children 4 years old to 6th Grade. \nParents must STAY.  No drop offs. \nSee Erica or Mark Goldy for more information. \nSignup sheet is in the foyer.
URL:https://aikencoc.com/event/kids-game-night-with-pizza/
LOCATION:Aiken Church of Christ\, 134 Rinehart Way\, Aiken\, SC\, 29803\, United States
END:VEVENT
BEGIN:VEVENT
DTSTART;TZID=America/New_York:20231006T000000
DTEND;TZID=America/New_York:20231008T000000
DTSTAMP:20260424T105033
CREATED:20230724T131410Z
LAST-MODIFIED:20230902T214722Z
UID:1283-1696550400-1696723200@aikencoc.com
SUMMARY:Women's Retreat
DESCRIPTION:RETREAT TOPIC: “STEPPING OUT WITH JESUS” \nSignup sheet on the table in the foyer. \nSee Carol Brown or Connie Waiswilos if you have any questions. \nEvent cost is $50.00.  PLEASE PAY CINDY COX BY SUNDAY SEPTEMBER 17 TO RESERVE YOUR SPOT. \nMORE DETAILS ARE COMING SOON!  Below are some pictures of the venue.
URL:https://aikencoc.com/event/womens-retreat/
LOCATION:SC
END:VEVENT
BEGIN:VEVENT
DTSTART;TZID=America/New_York:20230924T140000
DTEND;TZID=America/New_York:20230924T160000
DTSTAMP:20260424T105033
CREATED:20230824T144037Z
LAST-MODIFIED:20230824T144833Z
UID:1382-1695564000-1695571200@aikencoc.com
SUMMARY:Drop-In Baby Shower
DESCRIPTION:Baby shower for Shila England.  See Nicole Gantt\, Michelle King\, and Nicole Lancaster for more information.
URL:https://aikencoc.com/event/drop-in-baby-shower/
LOCATION:SC
END:VEVENT
BEGIN:VEVENT
DTSTART;VALUE=DATE:20230923
DTEND;VALUE=DATE:20230924
DTSTAMP:20260424T105033
CREATED:20230528T193601Z
LAST-MODIFIED:20230528T193601Z
UID:1112-1695427200-1695513599@aikencoc.com
SUMMARY:September Womens Day of Encouragement
DESCRIPTION:We also have a monthly day of encouragement where we meet to write cards\, make contact plans and pray for family members that have a special occasion or challenge they are facing.
URL:https://aikencoc.com/event/september-womens-day-of-encouragement/
LOCATION:SC
END:VEVENT
BEGIN:VEVENT
DTSTART;TZID=America/New_York:20230917T190000
DTEND;TZID=America/New_York:20230917T200000
DTSTAMP:20260424T105033
CREATED:20230907T144733Z
LAST-MODIFIED:20230907T144916Z
UID:1449-1694977200-1694980800@aikencoc.com
SUMMARY:Youth Devo
DESCRIPTION:We will be having a Youth Devotional after Sunday evening worship service for 5th grade through College age students. \nSignup sheet is on the table in the foyer.  Contact Bob King if you have any questions.
URL:https://aikencoc.com/event/youth-devo/
LOCATION:Aiken Church of Christ\, 134 Rinehart Way\, Aiken\, SC\, 29803\, United States
END:VEVENT
BEGIN:VEVENT
DTSTART;TZID=America/New_York:20230917T093000
DTEND;TZID=America/New_York:20230917T120000
DTSTAMP:20260424T105033
CREATED:20230914T193850Z
LAST-MODIFIED:20230914T195520Z
UID:1463-1694943000-1694952000@aikencoc.com
SUMMARY:EEM Guest speaker\, Jim Black and a Special Collection
DESCRIPTION:Eastern European Mission Guest speaker Jim Black will be at Aiken Church of Christ on Sunday morning 9/17 to give an update on the mission.  For more information on EEM please go to https://eem.org . To see more about our Mission partners please go to Missions – Aiken Church of Christ (aikencoc.com).
URL:https://aikencoc.com/event/eem-guest-speaker-jim-black-and-a-special-collection/
LOCATION:Aiken Church of Christ\, 134 Rinehart Way\, Aiken\, SC\, 29803\, United States
END:VEVENT
BEGIN:VEVENT
DTSTART;TZID=America/New_York:20230916T080000
DTEND;TZID=America/New_York:20230916T120000
DTSTAMP:20260424T105033
CREATED:20230904T010406Z
LAST-MODIFIED:20230904T012502Z
UID:1427-1694851200-1694865600@aikencoc.com
SUMMARY:Men's Breakfast
DESCRIPTION:Aiken men will be meeting at the building again for another breakfast and fellowship.  All men are welcome ages 2 to 102.  Bring a friend.  We will be discussing future plans for activities and service projects.
URL:https://aikencoc.com/event/mens-breakfast/
LOCATION:Aiken Church of Christ\, 134 Rinehart Way\, Aiken\, SC\, 29803\, United States
END:VEVENT
BEGIN:VEVENT
DTSTART;TZID=America/New_York:20230909T100000
DTEND;TZID=America/New_York:20230909T130000
DTSTAMP:20260424T105033
CREATED:20230906T135041Z
LAST-MODIFIED:20230906T135041Z
UID:1441-1694253600-1694264400@aikencoc.com
SUMMARY:Church of Christ Fun Day in Augusta
DESCRIPTION:
URL:https://aikencoc.com/event/church-of-christ-fun-day-in-augusta/
LOCATION:SC
END:VEVENT
BEGIN:VEVENT
DTSTART;TZID=America/New_York:20230905T100000
DTEND;TZID=America/New_York:20230905T120000
DTSTAMP:20260424T105033
CREATED:20230807T004043Z
LAST-MODIFIED:20230807T004043Z
UID:1327-1693908000-1693915200@aikencoc.com
SUMMARY:Weekly Tuesday Bible Study
DESCRIPTION:
URL:https://aikencoc.com/event/weekly-tuesday-bible-study/
LOCATION:Aiken Church of Christ\, 134 Rinehart Way\, Aiken\, SC\, 29803\, United States
END:VEVENT
BEGIN:VEVENT
DTSTART;TZID=America/New_York:20230827T160000
DTEND;TZID=America/New_York:20230827T180000
DTSTAMP:20260424T105033
CREATED:20230811T185952Z
LAST-MODIFIED:20230811T185952Z
UID:1344-1693152000-1693159200@aikencoc.com
SUMMARY:Women's Ministry Leadership Team Monthly Meeting Sunday 8/27.
DESCRIPTION:The Women’s Ministry Leadership Team’s monthly planning meeting will be held Sunday\, August 27 in the classroom next to library in the education hallway. \n\n\n\n\nIf you have any items or questions\, you want them to review or discuss\, please let someone on the team know. \nAnyone interested is also invited to stop by starting at 5:20 to chat and discuss any ideas or questions you have.\nAs a reminder\, the team members are Carol Brown\, Connie Waiswilos\, Cindy Cox\, Erica Goldy\, Leta Harvel\, Libby Waycaster\, Lisa Fountain\, and Michelle King.
URL:https://aikencoc.com/event/womens-ministry-leadership-team-monthly-meeting-sunday-8-27/
LOCATION:SC
END:VEVENT
BEGIN:VEVENT
DTSTART;TZID=America/New_York:20230826T100000
DTEND;TZID=America/New_York:20230826T120000
DTSTAMP:20260424T105033
CREATED:20230724T131011Z
LAST-MODIFIED:20230820T201240Z
UID:1280-1693044000-1693051200@aikencoc.com
SUMMARY:Bamabelle Jewelry Making Class
DESCRIPTION:THIS EVENT IS CLOSED.  ALL AVAILABLE SEATS HAVE BEEN ASSIGNED. \n  \n 
URL:https://aikencoc.com/event/jewelry-making-class/
LOCATION:Aiken Church of Christ\, 134 Rinehart Way\, Aiken\, SC\, 29803\, United States
END:VEVENT
BEGIN:VEVENT
DTSTART;VALUE=DATE:20230826
DTEND;VALUE=DATE:20230827
DTSTAMP:20260424T105033
CREATED:20230528T193410Z
LAST-MODIFIED:20230528T193410Z
UID:1110-1693008000-1693094399@aikencoc.com
SUMMARY:August Womens Day of Encouragement
DESCRIPTION:We also have a monthly day of encouragement where we meet to write cards\, make contact plans and pray for family members that have a special occasion or challenge they are facing.
URL:https://aikencoc.com/event/august-womens-day-of-encouragement/
LOCATION:SC
END:VEVENT
BEGIN:VEVENT
DTSTART;TZID=America/New_York:20230819T080000
DTEND;TZID=America/New_York:20230819T110000
DTSTAMP:20260424T105033
CREATED:20230709T014205Z
LAST-MODIFIED:20230730T215159Z
UID:1269-1692432000-1692442800@aikencoc.com
SUMMARY:Mens Ministry Breakfast
DESCRIPTION:Aiken men will be meeting at the building again for another breakfast and fellowship.  All men are welcome ages 2 to 102.  Bring a friend.  We will be discussing future plans for activities and service projects.
URL:https://aikencoc.com/event/mens-ministry-breakfast/
LOCATION:Aiken Church of Christ\, 134 Rinehart Way\, Aiken\, SC\, 29803\, United States
END:VEVENT
END:VCALENDAR