BEGIN:VCALENDAR
VERSION:2.0
PRODID:-//Aiken Church of Christ - ECPv6.15.20//NONSGML v1.0//EN
CALSCALE:GREGORIAN
METHOD:PUBLISH
X-WR-CALNAME:Aiken Church of Christ
X-ORIGINAL-URL:https://aikencoc.com
X-WR-CALDESC:Events for Aiken Church of Christ
REFRESH-INTERVAL;VALUE=DURATION:PT1H
X-Robots-Tag:noindex
X-PUBLISHED-TTL:PT1H
BEGIN:VTIMEZONE
TZID:America/New_York
BEGIN:DAYLIGHT
TZOFFSETFROM:-0500
TZOFFSETTO:-0400
TZNAME:EDT
DTSTART:20230312T070000
END:DAYLIGHT
BEGIN:STANDARD
TZOFFSETFROM:-0400
TZOFFSETTO:-0500
TZNAME:EST
DTSTART:20231105T060000
END:STANDARD
BEGIN:DAYLIGHT
TZOFFSETFROM:-0500
TZOFFSETTO:-0400
TZNAME:EDT
DTSTART:20240310T070000
END:DAYLIGHT
BEGIN:STANDARD
TZOFFSETFROM:-0400
TZOFFSETTO:-0500
TZNAME:EST
DTSTART:20241103T060000
END:STANDARD
BEGIN:DAYLIGHT
TZOFFSETFROM:-0500
TZOFFSETTO:-0400
TZNAME:EDT
DTSTART:20250309T070000
END:DAYLIGHT
BEGIN:STANDARD
TZOFFSETFROM:-0400
TZOFFSETTO:-0500
TZNAME:EST
DTSTART:20251102T060000
END:STANDARD
END:VTIMEZONE
BEGIN:VEVENT
DTSTART;TZID=America/New_York:20240921T080000
DTEND;TZID=America/New_York:20240921T110000
DTSTAMP:20260424T121506
CREATED:20240826T014445Z
LAST-MODIFIED:20240826T014445Z
UID:2395-1726905600-1726916400@aikencoc.com
SUMMARY:Men's Breakfast
DESCRIPTION:We are having another gathering of the men for fellowship and breakfast.  Typical breakfast consists of bacon\, scrambled eggs\, pancakes\, bacon\, biscuits\, and gravy\, coffee\, juice\, and milk.  Did I mention bacon? \n \n  \nIf you want to help cook/setup then be there at 7:00 AM.  Breakfast starts at 8:00 AM. \n 
URL:https://aikencoc.com/event/mens-breakfast-3/
LOCATION:Aiken Church of Christ\, 134 Rinehart Way\, Aiken\, SC\, 29803\, United States
END:VEVENT
BEGIN:VEVENT
DTSTART;TZID=America/New_York:20240914T093000
DTEND;TZID=America/New_York:20240914T170000
DTSTAMP:20260424T121506
CREATED:20240826T015319Z
LAST-MODIFIED:20240826T015351Z
UID:2397-1726306200-1726333200@aikencoc.com
SUMMARY:Fall Into The Holidays Party (Women & Girls)
DESCRIPTION:The Ladies of the Aiken Church of Christ are having a Fall Party.  More information will be provided as it is available. \nSeptember 14 9:30 AM
URL:https://aikencoc.com/event/fall-into-the-holidays-party-women-girls/
LOCATION:Aiken Church of Christ\, 134 Rinehart Way\, Aiken\, SC\, 29803\, United States
END:VEVENT
BEGIN:VEVENT
DTSTART;TZID=America/New_York:20240907T080000
DTEND;TZID=America/New_York:20240907T170000
DTSTAMP:20260424T121506
CREATED:20240815T130836Z
LAST-MODIFIED:20240817T153649Z
UID:2368-1725696000-1725728400@aikencoc.com
SUMMARY:The Churches of Christ Salute You
DESCRIPTION:“CHURCHES OF CHRIST SALUTE YOU” EVENT \n\nSeptember 7\nAugusta Commons\nWe need supplies\, volunteers to prepare materials for the booth\, and volunteers to greet visitors to our booth\n\nSupply items still needed are on the board in the foyer – see Lisa Fountain with any questions.\nBring the items you purchase and put them in the basket under the board\nThe sign-up sheet for manning our booth is on the foyer table\nNOTE: – We are NOT collecting clothes.\n\n\n\n10:00    South Augusta     WELCOME\, Word & Singing \n10:20    Central                   Singing and Mini Lesson \n10:40    Grace Street          The Word and Singing Group \n11:00    Country Club Church of Christ Singing Group \n11:40    Hwy 56                    The Word and Singing Group \n12:00    Westside                 The Word and Singing Group \n12:20    Meadowbrook       The Word and Singing Group \n12:40    D’Antignac             The Word and Singing Group \nAlso available: An Assortment of Vendors\, Food\, Clothing Giveaway\, Kids Zone
URL:https://aikencoc.com/event/the-churches-of-christ-salute-you/
LOCATION:Augusta Commons\, 836 Reynolds Street\, Augusta\, GA\, 30901\, United States
END:VEVENT
BEGIN:VEVENT
DTSTART;TZID=America/New_York:20240629T100000
DTEND;TZID=America/New_York:20240629T170000
DTSTAMP:20260424T121506
CREATED:20240608T182246Z
LAST-MODIFIED:20240608T182246Z
UID:2242-1719655200-1719680400@aikencoc.com
SUMMARY:Women's Ministry Team Meeting
DESCRIPTION:If you would like to come and share items\, or ask questions\, stop by the classroom next-door to the library at 10:00 AM.
URL:https://aikencoc.com/event/womens-ministry-team-meeting/
END:VEVENT
BEGIN:VEVENT
DTSTART;TZID=America/New_York:20240628T173000
DTEND;TZID=America/New_York:20240628T210000
DTSTAMP:20260424T121506
CREATED:20240509T192757Z
LAST-MODIFIED:20240520T204656Z
UID:2184-1719595800-1719608400@aikencoc.com
SUMMARY:Green Jacket Baseball\, Faith and Family Night
DESCRIPTION:The Green Jackets baseball team will be hosting a Faith & Family Night on June 28th. \nGates open at 5:30 and the games starts at 7:05 \nSignup sheet is on the foyer table\, tickets are $12.oo if we get 20 or more people signed up. \nPlease pay by June 2nd.  See Cindy Cox for more information or to buy tickets.
URL:https://aikencoc.com/event/green-jacket-baseball-faith-and-family-night/
END:VEVENT
BEGIN:VEVENT
DTSTART;TZID=America/New_York:20240623T080000
DTEND;TZID=America/New_York:20240623T090000
DTSTAMP:20260424T121506
CREATED:20240509T191530Z
LAST-MODIFIED:20240509T191553Z
UID:2179-1719129600-1719133200@aikencoc.com
SUMMARY:Family Breakfast
DESCRIPTION:The men will be cooking breakfast for the congregation. \nBreakfast consists of Bacon\, Eggs\, Sausage & Gravy\, Pancakes\, Coffee\, Milk\, Juice. \n 
URL:https://aikencoc.com/event/family-breakfast/
LOCATION:Aiken Church of Christ\, 134 Rinehart Way\, Aiken\, SC\, 29803\, United States
END:VEVENT
BEGIN:VEVENT
DTSTART;TZID=America/New_York:20240622T090000
DTEND;TZID=America/New_York:20240622T120000
DTSTAMP:20260424T121506
CREATED:20240509T191005Z
LAST-MODIFIED:20240608T172348Z
UID:2177-1719046800-1719057600@aikencoc.com
SUMMARY:Vacation Bible School
DESCRIPTION:The theme is Christian Olympics!  Just in time for the Summer Olympics. \nWe will have a lunch after the closing ceremonies. \nYou can register at the table in the foyer – Adults and children! \nPick up some flyers to use to invite your family\, friends\, and neighbors. \nIf you have any questions please see Erica or Mark Goldy. \n 
URL:https://aikencoc.com/event/vacation-bible-school/
LOCATION:Aiken Church of Christ\, 134 Rinehart Way\, Aiken\, SC\, 29803\, United States
END:VEVENT
BEGIN:VEVENT
DTSTART;TZID=America/New_York:20240609T080000
DTEND;TZID=America/New_York:20240727T170000
DTSTAMP:20260424T121506
CREATED:20230814T015803Z
LAST-MODIFIED:20240518T213923Z
UID:1358-1717920000-1722099600@aikencoc.com
SUMMARY:Palmetto Bible Camp 2024
DESCRIPTION:More information will be available as we approach that date.  To register go to: https://palmetto.campmanagement.com/p/campers/login_m.php
URL:https://aikencoc.com/event/palmetto-bible-camp-2024/
LOCATION:Palmetto Bible Camp
END:VEVENT
BEGIN:VEVENT
DTSTART;TZID=America/New_York:20240525T100000
DTEND;TZID=America/New_York:20240525T120000
DTSTAMP:20260424T121506
CREATED:20240520T205105Z
LAST-MODIFIED:20240520T205105Z
UID:2209-1716631200-1716638400@aikencoc.com
SUMMARY:Ladies Day of Encouragement
DESCRIPTION:We have the opportunity to spread some encouragement to our church family. \nCome join us Saturday May 25 at 10:00 AM.  Coffee and goodies are provided.
URL:https://aikencoc.com/event/ladies-day-of-encouragement/
LOCATION:Aiken Church of Christ\, 134 Rinehart Way\, Aiken\, SC\, 29803\, United States
END:VEVENT
BEGIN:VEVENT
DTSTART;TZID=America/New_York:20240519T103000
DTEND;TZID=America/New_York:20240519T120000
DTSTAMP:20260424T121506
CREATED:20240509T192048Z
LAST-MODIFIED:20240509T192048Z
UID:2182-1716114600-1716120000@aikencoc.com
SUMMARY:Celebrate Our Seniors!
DESCRIPTION:During our morning service on Sunday May 19 we will have a celebration of our High School Seniors \nThere will be a table for cards and /or gifts set up that morning. \nSee Bob King if you need more information.
URL:https://aikencoc.com/event/celebrate-our-seniors/
LOCATION:Aiken Church of Christ\, 134 Rinehart Way\, Aiken\, SC\, 29803\, United States
END:VEVENT
BEGIN:VEVENT
DTSTART;TZID=America/New_York:20240518T084500
DTEND;TZID=America/New_York:20240518T120000
DTSTAMP:20260424T121506
CREATED:20240220T170410Z
LAST-MODIFIED:20240509T193324Z
UID:2016-1716021900-1716033600@aikencoc.com
SUMMARY:Ladies Day at Aiken Church of Christ
DESCRIPTION:Ladies Day at Aiken Church of Christ \n\nSaturday\, May 18\, 8:45 a.m. – 12 noon\nLight breakfast and lunch provided\nGuest speaker Celine Sparks\nSee Michelle King for more info.\n\nPlease register by May 12th! \nThere are also flyers on the table with more information and for you to use to invite friends. \nSee Michelle King for more information.
URL:https://aikencoc.com/event/womens-day-at-aiken-church-of-christ/
LOCATION:Aiken Church of Christ\, 134 Rinehart Way\, Aiken\, SC\, 29803\, United States
END:VEVENT
BEGIN:VEVENT
DTSTART;TZID=America/New_York:20240427T100000
DTEND;TZID=America/New_York:20240427T120000
DTSTAMP:20260424T121506
CREATED:20240405T140741Z
LAST-MODIFIED:20240405T140741Z
UID:2143-1714212000-1714219200@aikencoc.com
SUMMARY:Women's day of encouragement
DESCRIPTION:Women’s day of encouragement.  Come be encouraged by encouraging others!
URL:https://aikencoc.com/event/womens-day-of-encouragement/
LOCATION:Aiken Church of Christ\, 134 Rinehart Way\, Aiken\, SC\, 29803\, United States
END:VEVENT
BEGIN:VEVENT
DTSTART;TZID=America/New_York:20240421T081500
DTEND;TZID=America/New_York:20240421T091500
DTSTAMP:20260424T121506
CREATED:20240405T141848Z
LAST-MODIFIED:20240407T192719Z
UID:2145-1713687300-1713690900@aikencoc.com
SUMMARY:Family Breakfast for the Congregation
DESCRIPTION:Sunday April 21 8:15 am – 9:15 am.  Please sign up on the sheet in the foyer so the church men will know how much food to prepare.  Breakfast will be over in time for class to begin. \nBreakfast generally consists of: Scrambled eggs\, Bacon\, Sausage\, Milk\, Juice\, Coffee. \nSee Caleb Smotherman or Mark Cox with any questions or if you want to volunteer to help.
URL:https://aikencoc.com/event/family-breakfast-for-the-congregation/
LOCATION:Aiken Church of Christ\, 134 Rinehart Way\, Aiken\, SC\, 29803\, United States
END:VEVENT
BEGIN:VEVENT
DTSTART;TZID=America/New_York:20240420T110000
DTEND;TZID=America/New_York:20240420T130000
DTSTAMP:20260424T121506
CREATED:20240205T114755Z
LAST-MODIFIED:20240407T192237Z
UID:1932-1713610800-1713618000@aikencoc.com
SUMMARY:Pizza Pie and Tie-Dye
DESCRIPTION:Piza pie and Tie dye!! \nWe will provide the dye\, you bring an item to dye.  Pizza is included. \nAges pre-K to 12th grade. \nSign-up sheet is on the table in the foyer. \nPARENTS MUST STAY WITH THEIR CHILD!
URL:https://aikencoc.com/event/pizza-pie-and-tie-dye/
LOCATION:Aiken Church of Christ\, 134 Rinehart Way\, Aiken\, SC\, 29803\, United States
END:VEVENT
BEGIN:VEVENT
DTSTART;TZID=America/New_York:20240420T080000
DTEND;TZID=America/New_York:20240420T170000
DTSTAMP:20260424T121506
CREATED:20240220T170238Z
LAST-MODIFIED:20240220T170307Z
UID:2013-1713600000-1713632400@aikencoc.com
SUMMARY:Ladies Day at Seneca Church of Christ
DESCRIPTION:Ladies Day at Seneca Church of Christ
URL:https://aikencoc.com/event/ladies-day/
END:VEVENT
BEGIN:VEVENT
DTSTART;TZID=America/New_York:20240414T170000
DTEND;TZID=America/New_York:20240414T180000
DTSTAMP:20260424T121506
CREATED:20240321T140657Z
LAST-MODIFIED:20240407T192017Z
UID:2110-1713114000-1713117600@aikencoc.com
SUMMARY:VBS interest meeting
DESCRIPTION:Vacation Bible School is scheduled for Saturday June 22nd. \nCome to the meeting on Sunday\, April 14 at 5:00 PM if you are interested in participating. \nThere is something we can all do this year! \nCome to the meeting and find out what that is.
URL:https://aikencoc.com/event/vbs-interest-meeting/
LOCATION:Aiken Church of Christ\, 134 Rinehart Way\, Aiken\, SC\, 29803\, United States
END:VEVENT
BEGIN:VEVENT
DTSTART;TZID=America/New_York:20240331T120000
DTEND;TZID=America/New_York:20240331T150000
DTSTAMP:20260424T121506
CREATED:20240321T140155Z
LAST-MODIFIED:20240321T140155Z
UID:2108-1711886400-1711897200@aikencoc.com
SUMMARY:5th Sunday Potluck
DESCRIPTION:Sunday March 31 immediately after morning worship.  Invite your friends.  Bring enough of your favorite dish to feed your family and one other.  Egg hunt will be following the lunch.
URL:https://aikencoc.com/event/5th-sunday-potluck/
LOCATION:Aiken Church of Christ\, 134 Rinehart Way\, Aiken\, SC\, 29803\, United States
END:VEVENT
BEGIN:VEVENT
DTSTART;TZID=America/New_York:20240331T120000
DTEND;TZID=America/New_York:20240331T150000
DTSTAMP:20260424T121506
CREATED:20240220T165300Z
LAST-MODIFIED:20240324T201902Z
UID:2009-1711886400-1711897200@aikencoc.com
SUMMARY:Potluck Dinner and Easter egg hunt
DESCRIPTION:Potluck Dinner and Easter egg hunt immediately after the morning worship service.  Bring plenty of food.  Invite your friends.  Visitors are welcome.
URL:https://aikencoc.com/event/potluck-dinner-and-easter-egg-hunt/
END:VEVENT
BEGIN:VEVENT
DTSTART;TZID=America/New_York:20240330T100000
DTEND;TZID=America/New_York:20240330T120000
DTSTAMP:20260424T121506
CREATED:20240321T134808Z
LAST-MODIFIED:20240321T134808Z
UID:2103-1711792800-1711800000@aikencoc.com
SUMMARY:Day of Encouragement
DESCRIPTION:Come spend time being encouraged while you write notes and cards to encourage others.  See Connie Waiswilos for more information.
URL:https://aikencoc.com/event/day-of-encouragement/
LOCATION:Aiken Church of Christ\, 134 Rinehart Way\, Aiken\, SC\, 29803\, United States
END:VEVENT
BEGIN:VEVENT
DTSTART;TZID=America/New_York:20240330T083000
DTEND;TZID=America/New_York:20240330T100000
DTSTAMP:20260424T121506
CREATED:20240321T135555Z
LAST-MODIFIED:20240321T135555Z
UID:2105-1711787400-1711792800@aikencoc.com
SUMMARY:Sort and Stuff Easter Eggs
DESCRIPTION:We are sorting and filling plastic eggs for the egg hunt on 3/31.  See Lisa Fountain for more information.
URL:https://aikencoc.com/event/sort-and-stuff-easter-eggs/
LOCATION:Aiken Church of Christ\, 134 Rinehart Way\, Aiken\, SC\, 29803\, United States
END:VEVENT
BEGIN:VEVENT
DTSTART;TZID=America/New_York:20240323T080000
DTEND;TZID=America/New_York:20240323T170000
DTSTAMP:20260424T121506
CREATED:20230814T015229Z
LAST-MODIFIED:20240115T114431Z
UID:1356-1711180800-1711213200@aikencoc.com
SUMMARY:Wise Yout's Rally
DESCRIPTION:More info will be coming as we approach the date.
URL:https://aikencoc.com/event/wise-youts-rally/
LOCATION:Aiken Church of Christ\, 134 Rinehart Way\, Aiken\, SC\, 29803\, United States
END:VEVENT
BEGIN:VEVENT
DTSTART;TZID=America/New_York:20240321T080000
DTEND;TZID=America/New_York:20240321T170000
DTSTAMP:20260424T121506
CREATED:20240321T141646Z
LAST-MODIFIED:20240321T141646Z
UID:2112-1711008000-1711040400@aikencoc.com
SUMMARY:Registration is open for Palmetto Bible Camp (PBC)
DESCRIPTION:If you want to register your child to attend the Palmetto Bible Camp you can do this on-line at: www.pbc.camp
URL:https://aikencoc.com/event/registration-is-open-for-palmetto-bible-camp-pbc/
LOCATION:Palmetto Bible Camp
END:VEVENT
BEGIN:VEVENT
DTSTART;TZID=America/New_York:20240317T080000
DTEND;TZID=America/New_York:20240317T090000
DTSTAMP:20260424T121506
CREATED:20240309T205207Z
LAST-MODIFIED:20240309T205207Z
UID:2094-1710662400-1710666000@aikencoc.com
SUMMARY:Congregational Breakfast
DESCRIPTION:The men will be cooking a family breakfast for everyone on Sunday\, March 17. We will be serving from 8:15-9:15 giving everyone time to get to class!  Please come and enjoy bacon\, eggs\, pancakes\, biscuits\, and gravy to start your morning!  We ask that you sign up in the foyer so we can get a head count for food!  See Mark Cox or Caleb Smotherman for more info.
URL:https://aikencoc.com/event/congregational-breakfast/
LOCATION:Aiken Church of Christ\, 134 Rinehart Way\, Aiken\, SC\, 29803\, United States
END:VEVENT
BEGIN:VEVENT
DTSTART;TZID=America/New_York:20240309T140000
DTEND;TZID=America/New_York:20240309T160000
DTSTAMP:20260424T121506
CREATED:20240301T180310Z
LAST-MODIFIED:20240301T180505Z
UID:2054-1709992800-1710000000@aikencoc.com
SUMMARY:Baby Shower for Christina Williams
DESCRIPTION:Baby Shower for Christina Williams
URL:https://aikencoc.com/event/baby-shower-for-christina-williams/
END:VEVENT
BEGIN:VEVENT
DTSTART;TZID=America/New_York:20240309T080000
DTEND;TZID=America/New_York:20240309T140000
DTSTAMP:20260424T121506
CREATED:20240301T180854Z
LAST-MODIFIED:20240301T180854Z
UID:2056-1709971200-1709992800@aikencoc.com
SUMMARY:Carolina Men's Fellowship
DESCRIPTION:Carolina Men’s Fellowship \nGold Hill church\, Fort Mill \nSee the flier on the bulletin board in the education hallway.
URL:https://aikencoc.com/event/carolina-mens-fellowship/
END:VEVENT
BEGIN:VEVENT
DTSTART;TZID=America/New_York:20240224T080000
DTEND;TZID=America/New_York:20240224T170000
DTSTAMP:20260424T121506
CREATED:20240220T165100Z
LAST-MODIFIED:20240220T165100Z
UID:2007-1708761600-1708794000@aikencoc.com
SUMMARY:Women's February Day of Encouragement
DESCRIPTION:
URL:https://aikencoc.com/event/womens-february-day-of-encouragement/
END:VEVENT
BEGIN:VEVENT
DTSTART;TZID=America/New_York:20240216T180000
DTEND;TZID=America/New_York:20240216T210000
DTSTAMP:20260424T121506
CREATED:20240205T114244Z
LAST-MODIFIED:20240205T114244Z
UID:1928-1708106400-1708117200@aikencoc.com
SUMMARY:Men's Chili-dog and Movie night at the church.
DESCRIPTION:More information will be available soon.
URL:https://aikencoc.com/event/mens-chili-dog-and-movie-night-at-the-church/
LOCATION:Aiken Church of Christ\, 134 Rinehart Way\, Aiken\, SC\, 29803\, United States
END:VEVENT
BEGIN:VEVENT
DTSTART;TZID=America/New_York:20240210T173000
DTEND;TZID=America/New_York:20240210T193000
DTSTAMP:20260424T121506
CREATED:20240121T185544Z
LAST-MODIFIED:20240129T140328Z
UID:1879-1707586200-1707593400@aikencoc.com
SUMMARY:Palentines Dinner
DESCRIPTION:We are having another Palentines dinner on February 10\, 2024 at 5:30 PM.  Please sign up in the foyer by February 7th.  For more information contact Bob King.
URL:https://aikencoc.com/event/palentines-dinner/
LOCATION:Aiken Church of Christ\, 134 Rinehart Way\, Aiken\, SC\, 29803\, United States
END:VEVENT
BEGIN:VEVENT
DTSTART;TZID=America/New_York:20240203T093000
DTEND;TZID=America/New_York:20240203T133000
DTSTAMP:20260424T121506
CREATED:20240112T204720Z
LAST-MODIFIED:20240112T204720Z
UID:1854-1706952600-1706967000@aikencoc.com
SUMMARY:3rd Annual Women's Brunch
DESCRIPTION:The Third Annual Women’s Brunch will be held at the church building on February 3rd at 9:30 AM.  This is an opportunity to fellowship and to sign up for ministries that you have a desire to participate in. \nThere will be a signup sheet in the foyer.
URL:https://aikencoc.com/event/3rd-annual-womens-brunch/
LOCATION:Aiken Church of Christ\, 134 Rinehart Way\, Aiken\, SC\, 29803\, United States
END:VEVENT
BEGIN:VEVENT
DTSTART;TZID=America/New_York:20240120T080000
DTEND;TZID=America/New_York:20240120T120000
DTSTAMP:20260424T121506
CREATED:20240112T205312Z
LAST-MODIFIED:20240112T205312Z
UID:1856-1705737600-1705752000@aikencoc.com
SUMMARY:Men's Breakfast
DESCRIPTION:The next men’s breakfast will be held on Saturday January 20 at 8:00 AM.  Bring a friend.
URL:https://aikencoc.com/event/mens-breakfast-2/
LOCATION:Aiken Church of Christ\, 134 Rinehart Way\, Aiken\, SC\, 29803\, United States
END:VEVENT
END:VCALENDAR