BEGIN:VCALENDAR
VERSION:2.0
PRODID:-//Aiken Church of Christ - ECPv6.15.20//NONSGML v1.0//EN
CALSCALE:GREGORIAN
METHOD:PUBLISH
X-WR-CALNAME:Aiken Church of Christ
X-ORIGINAL-URL:https://aikencoc.com
X-WR-CALDESC:Events for Aiken Church of Christ
REFRESH-INTERVAL;VALUE=DURATION:PT1H
X-Robots-Tag:noindex
X-PUBLISHED-TTL:PT1H
BEGIN:VTIMEZONE
TZID:America/New_York
BEGIN:DAYLIGHT
TZOFFSETFROM:-0500
TZOFFSETTO:-0400
TZNAME:EDT
DTSTART:20240310T070000
END:DAYLIGHT
BEGIN:STANDARD
TZOFFSETFROM:-0400
TZOFFSETTO:-0500
TZNAME:EST
DTSTART:20241103T060000
END:STANDARD
BEGIN:DAYLIGHT
TZOFFSETFROM:-0500
TZOFFSETTO:-0400
TZNAME:EDT
DTSTART:20250309T070000
END:DAYLIGHT
BEGIN:STANDARD
TZOFFSETFROM:-0400
TZOFFSETTO:-0500
TZNAME:EST
DTSTART:20251102T060000
END:STANDARD
BEGIN:DAYLIGHT
TZOFFSETFROM:-0500
TZOFFSETTO:-0400
TZNAME:EDT
DTSTART:20260308T070000
END:DAYLIGHT
BEGIN:STANDARD
TZOFFSETFROM:-0400
TZOFFSETTO:-0500
TZNAME:EST
DTSTART:20261101T060000
END:STANDARD
BEGIN:DAYLIGHT
TZOFFSETFROM:-0500
TZOFFSETTO:-0400
TZNAME:EDT
DTSTART:20270314T070000
END:DAYLIGHT
BEGIN:STANDARD
TZOFFSETFROM:-0400
TZOFFSETTO:-0500
TZNAME:EST
DTSTART:20271107T060000
END:STANDARD
END:VTIMEZONE
BEGIN:VEVENT
DTSTART;TZID=America/New_York:20260104T093000
DTEND;TZID=America/New_York:20260104T103000
DTSTAMP:20260423T181338
CREATED:20251229T162410Z
LAST-MODIFIED:20251229T162410Z
UID:3969-1767519000-1767522600@aikencoc.com
SUMMARY:Weekly Young Adult Class Begins January 4th
DESCRIPTION:Michael Decker will be leading a study for young adults\, ages 18-20 based on the book and video series “Don’t Let the Enemy Have a Seat at Your Table”. \nThe class will be held in the first classroom on the right\, just off the foyer\, next to the library. \nSee Michael Decker for more information.
URL:https://aikencoc.com/event/weekly-young-adult-class-begins-january-4th/
LOCATION:Aiken Church of Christ\, 134 Rinehart Way\, Aiken\, SC\, 29803\, United States
END:VEVENT
BEGIN:VEVENT
DTSTART;TZID=America/New_York:20260104T093000
DTEND;TZID=America/New_York:20260104T103000
DTSTAMP:20260423T181338
CREATED:20251222T150046Z
LAST-MODIFIED:20251222T150046Z
UID:3947-1767519000-1767522600@aikencoc.com
SUMMARY:Young Adult Class
DESCRIPTION:We will be starting a Young Adult class on January 4th.  Michael Decker will be leading a study for young adults\, ages 18-29 based on the book and video series “Dont Let the Enemy Have a Seat at Your Table”.  The class will be held in the first classroom on the right\, just off the foyer\, next door to the library.  See Michael for more information.
URL:https://aikencoc.com/event/young-adult-class/
LOCATION:Aiken Church of Christ\, 134 Rinehart Way\, Aiken\, SC\, 29803\, United States
END:VEVENT
BEGIN:VEVENT
DTSTART;TZID=America/New_York:20251231T190000
DTEND;TZID=America/New_York:20260101T000000
DTSTAMP:20260423T181338
CREATED:20251222T145621Z
LAST-MODIFIED:20251222T145621Z
UID:3945-1767207600-1767225600@aikencoc.com
SUMMARY:New Years Eve Devotional
DESCRIPTION:On December 31 starting at 7:00 PM we will be having a New Years eve devotional.  There will also be snacks and games.  Bring your Bible\, and friends and family\, along with a snack item to share.  Games will be here\, but if you have a favorite\, bring it too!
URL:https://aikencoc.com/event/new-years-eve-devotional/
LOCATION:Aiken Church of Christ\, 134 Rinehart Way\, Aiken\, SC\, 29803\, United States
END:VEVENT
BEGIN:VEVENT
DTSTART;TZID=America/New_York:20251213T090000
DTEND;TZID=America/New_York:20251213T120000
DTSTAMP:20260423T181338
CREATED:20251110T162639Z
LAST-MODIFIED:20251110T162639Z
UID:3820-1765616400-1765627200@aikencoc.com
SUMMARY:Breakfast With Santa
DESCRIPTION:On December 13th at 09:00 AM.  There is a signup sheet and flyers on the round table in the foyer. \n 
URL:https://aikencoc.com/event/breakfast-with-santa/
LOCATION:Aiken Church of Christ\, 134 Rinehart Way\, Aiken\, SC\, 29803\, United States
END:VEVENT
BEGIN:VEVENT
DTSTART;TZID=America/New_York:20251206T100000
DTEND;TZID=America/New_York:20251206T120000
DTSTAMP:20260423T181338
CREATED:20251110T161649Z
LAST-MODIFIED:20251110T161649Z
UID:3817-1765015200-1765022400@aikencoc.com
SUMMARY:Annual Ornament Exchange & Brunch
DESCRIPTION:Saturday December 6th at 10:00 AM \nFlyers and signup sheet are on the round table in the foyer.  See Leta Harvel or Angela Eckhart for more details.
URL:https://aikencoc.com/event/annual-ornament-exchange-brunch/
LOCATION:Aiken Church of Christ\, 134 Rinehart Way\, Aiken\, SC\, 29803\, United States
END:VEVENT
BEGIN:VEVENT
DTSTART;TZID=America/New_York:20251025T180000
DTEND;TZID=America/New_York:20251025T210000
DTSTAMP:20260423T181338
CREATED:20250915T170334Z
LAST-MODIFIED:20250915T174925Z
UID:3693-1761415200-1761426000@aikencoc.com
SUMMARY:Trunk or Treat 2025
DESCRIPTION:  \n \nJoin us for a night full of food\, costumes\, and fun at our Annual Trunk or Treat on October 25th starting at 6:00 PM.  Be sure to signup by October 19th so we can ensure there is plenty of food and goodies for everyone.  There are signup sheets in the foyer.  There are also invitation cards by signup sheets for you to use to invite your friends.  We can’t wait to see you there!
URL:https://aikencoc.com/event/trunk-or-treat-2025/
LOCATION:Aiken Church of Christ\, 134 Rinehart Way\, Aiken\, SC\, 29803\, United States
END:VEVENT
BEGIN:VEVENT
DTSTART;TZID=America/New_York:20251024T080000
DTEND;TZID=America/New_York:20251026T170000
DTSTAMP:20260423T181338
CREATED:20250827T115535Z
LAST-MODIFIED:20250901T190431Z
UID:3656-1761292800-1761498000@aikencoc.com
SUMMARY:Singles Retreat at Palmetto Bible Camp
DESCRIPTION:There will be a singles retreat at Palmetto Bible Camp on October 24th thru October 26th.  This is a retreat designed to encourage and equip singles (18+) to embrace their identity and purpose in Christ. \nSpeakers: Adam & Autumn Richardson \nRegister at: pbc.camp/pbc-pals-singles-retreat \n \n 
URL:https://aikencoc.com/event/singles-retreat-at-palmetto-bible-camp/
LOCATION:Palmetto Bible Camp
END:VEVENT
BEGIN:VEVENT
DTSTART;TZID=America/New_York:20251018T120000
DTEND;TZID=America/New_York:20251018T190000
DTSTAMP:20260423T181338
CREATED:20250815T203633Z
LAST-MODIFIED:20250815T205034Z
UID:3629-1760788800-1760814000@aikencoc.com
SUMMARY:Palmetto Bible Camp Charity Golf Scramble
DESCRIPTION:On October 18th 2025 there will be a Golf Scramble to support Palmetto Bible Camp.  Please see the attached flyer for more information.  To register now\, go to birdease.com/pbcgolfscramble space is limited. \n \n 
URL:https://aikencoc.com/event/palmetto-bible-camp-charity-golf-scramble/
LOCATION:SC
END:VEVENT
BEGIN:VEVENT
DTSTART;TZID=America/New_York:20251018T100000
DTEND;TZID=America/New_York:20251018T120000
DTSTAMP:20260423T181338
CREATED:20250821T182608Z
LAST-MODIFIED:20251006T132715Z
UID:3650-1760781600-1760788800@aikencoc.com
SUMMARY:Make Your Own Wreath
DESCRIPTION:Make Your Own Wreath \nGet ready for the holidays with a little decorating addition!  At Aiken Church of Christ. \nSign-up sheet is on the foyer table closest to the nursery. See Carol Brown or Angie Rodgers for details.
URL:https://aikencoc.com/event/make-your-own-wreath/
LOCATION:Aiken Church of Christ\, 134 Rinehart Way\, Aiken\, SC\, 29803\, United States
END:VEVENT
BEGIN:VEVENT
DTSTART;TZID=America/New_York:20251010T080000
DTEND;TZID=America/New_York:20251013T170000
DTSTAMP:20260423T181338
CREATED:20250616T124816Z
LAST-MODIFIED:20250824T234537Z
UID:3379-1760083200-1760374800@aikencoc.com
SUMMARY:Women's Annual Fall Retreat 2025
DESCRIPTION:This year the Women’s Annual Fall Retreat \nDates: Friday\, October 10 – Monday October 13 \nLocation: “The Lodge at Edenderry” which is located just outside Ashville. \nRegistration Due: September 5th \nRegistration Fee: $100.00 \nMore details coming soon. \n 
URL:https://aikencoc.com/event/womens-annual-fall-retreat-2025/
LOCATION:The Lodge at Edenderry
END:VEVENT
BEGIN:VEVENT
DTSTART;TZID=America/New_York:20251006T100000
DTEND;TZID=America/New_York:20251006T120000
DTSTAMP:20260423T181338
CREATED:20251006T133027Z
LAST-MODIFIED:20251006T133027Z
UID:3723-1759744800-1759752000@aikencoc.com
SUMMARY:Day of Encouragement
DESCRIPTION:Come spend time with family and write letters and notes to encourage one another.  See Connie Waiswilos for more information.
URL:https://aikencoc.com/event/day-of-encouragement-2/
LOCATION:Aiken Church of Christ\, 134 Rinehart Way\, Aiken\, SC\, 29803\, United States
END:VEVENT
BEGIN:VEVENT
DTSTART;TZID=America/New_York:20251004T090000
DTEND;TZID=America/New_York:20251004T120000
DTSTAMP:20260423T181338
CREATED:20250915T171842Z
LAST-MODIFIED:20250915T171842Z
UID:3697-1759568400-1759579200@aikencoc.com
SUMMARY:October Men's Breakfast
DESCRIPTION:Guys of ALL ages\, come share a meal\, fun\, and fellowship time with your brothers on October 4th at 9:00 AM at the church building.
URL:https://aikencoc.com/event/october-mens-breakfast/
LOCATION:Aiken Church of Christ\, 134 Rinehart Way\, Aiken\, SC\, 29803\, United States
END:VEVENT
BEGIN:VEVENT
DTSTART;TZID=America/New_York:20251004T080000
DTEND;TZID=America/New_York:20251004T170000
DTSTAMP:20260423T181338
CREATED:20250821T182158Z
LAST-MODIFIED:20250821T182158Z
UID:3646-1759564800-1759597200@aikencoc.com
SUMMARY:Women's Day - "Be Still And Know"
DESCRIPTION:Women’s Day – “Be Still and Know” \nSaint Andrews Road Church\, Columbia\, SC
URL:https://aikencoc.com/event/womens-day-be-still-and-know/
LOCATION:SC
END:VEVENT
BEGIN:VEVENT
DTSTART;TZID=America/New_York:20250927T093000
DTEND;TZID=America/New_York:20250927T133000
DTSTAMP:20260423T181338
CREATED:20250821T181828Z
LAST-MODIFIED:20250821T181828Z
UID:3644-1758965400-1758979800@aikencoc.com
SUMMARY:Fishing for Men
DESCRIPTION:Fishing for Men \nWorld Bible Institute Summer/Fall course \nD’Antignac Street church
URL:https://aikencoc.com/event/fishing-for-men/
LOCATION:SC
END:VEVENT
BEGIN:VEVENT
DTSTART;TZID=America/New_York:20250916T100000
DTEND;TZID=America/New_York:20250916T120000
DTSTAMP:20260423T181338
CREATED:20250906T130604Z
LAST-MODIFIED:20250906T130604Z
UID:3682-1758016800-1758024000@aikencoc.com
SUMMARY:Hot-Button Issues Areawide Men's Meetings
DESCRIPTION:
URL:https://aikencoc.com/event/hot-button-issues-areawide-mens-meetings/
LOCATION:St. Andrews Road Church of Christ\, 425 Saint Andrews Road\, Columbia\, SC\, 29210\, United States
END:VEVENT
BEGIN:VEVENT
DTSTART;TZID=America/New_York:20250913T080000
DTEND;TZID=America/New_York:20250913T170000
DTSTAMP:20260423T181338
CREATED:20250821T181450Z
LAST-MODIFIED:20250821T181450Z
UID:3642-1757750400-1757782800@aikencoc.com
SUMMARY:Men's Day - Answering the call.
DESCRIPTION:Men’s Day – Answering the Call \nBoiling Springs church\, Boiling Springs\, SC
URL:https://aikencoc.com/event/mens-day-answering-the-call/
LOCATION:SC
END:VEVENT
BEGIN:VEVENT
DTSTART;TZID=America/New_York:20250907T120000
DTEND;TZID=America/New_York:20250907T150000
DTSTAMP:20260423T181338
CREATED:20250821T180854Z
LAST-MODIFIED:20250821T180854Z
UID:3638-1757246400-1757257200@aikencoc.com
SUMMARY:Pot Luck Sunday
DESCRIPTION:We are having a Pot Luck on September 7th. \nBring enough for you and your family plus one more!
URL:https://aikencoc.com/event/pot-luck-sunday/
LOCATION:SC
END:VEVENT
BEGIN:VEVENT
DTSTART;TZID=America/New_York:20250907T080000
DTEND;TZID=America/New_York:20250910T170000
DTSTAMP:20260423T181338
CREATED:20250821T181246Z
LAST-MODIFIED:20250821T181246Z
UID:3640-1757232000-1757523600@aikencoc.com
SUMMARY:Gospel Meeting
DESCRIPTION:September 7th through September 10th. \nAugusta Road church\, Greenville\, SC
URL:https://aikencoc.com/event/gospel-meeting/
LOCATION:SC
END:VEVENT
BEGIN:VEVENT
DTSTART;TZID=America/New_York:20250906T080000
DTEND;TZID=America/New_York:20250906T170000
DTSTAMP:20260423T181338
CREATED:20250224T143517Z
LAST-MODIFIED:20250224T143517Z
UID:2891-1757145600-1757178000@aikencoc.com
SUMMARY:The Churches of Christ Salute You
DESCRIPTION:This event will be held at Augusta Commons on September 6th.  More information is coming.
URL:https://aikencoc.com/event/the-churches-of-christ-salute-you-2/
LOCATION:Augusta Commons\, 836 Reynolds Street\, Augusta\, GA\, 30901\, United States
END:VEVENT
BEGIN:VEVENT
DTSTART;TZID=America/New_York:20250823T100000
DTEND;TZID=America/New_York:20250823T170000
DTSTAMP:20260423T181338
CREATED:20250821T182411Z
LAST-MODIFIED:20250821T182411Z
UID:3648-1755943200-1755968400@aikencoc.com
SUMMARY:Day of Encouragement - Ladies
DESCRIPTION:Women’s Ministry Day of Encouragement.
URL:https://aikencoc.com/event/day-of-encouragement-ladies/
LOCATION:SC
END:VEVENT
BEGIN:VEVENT
DTSTART;TZID=America/New_York:20250802T093000
DTEND;TZID=America/New_York:20250802T110000
DTSTAMP:20260423T181338
CREATED:20250702T180429Z
LAST-MODIFIED:20250714T002812Z
UID:3571-1754127000-1754132400@aikencoc.com
SUMMARY:Splash Pad Party
DESCRIPTION:End of summer Splash Pad Party at Citizen’s Park Spray Ground for the little ones will be held August 2nd 9:30 – 11:00 AM.  See Erica Goldy or Mark Goldy for details.
URL:https://aikencoc.com/event/splash-pad-party/
LOCATION:SC
END:VEVENT
BEGIN:VEVENT
DTSTART;TZID=America/New_York:20250719T080000
DTEND;TZID=America/New_York:20250719T170000
DTSTAMP:20260423T181338
CREATED:20250523T133709Z
LAST-MODIFIED:20250630T170333Z
UID:3256-1752912000-1752944400@aikencoc.com
SUMMARY:New Ellenton Ladies Day
DESCRIPTION:Westside church in New Ellenton\, SC will be having a Ladies Day on July 19th.
URL:https://aikencoc.com/event/ladies-day-5/
LOCATION:SC
END:VEVENT
BEGIN:VEVENT
DTSTART;TZID=America/New_York:20250712T090000
DTEND;TZID=America/New_York:20250712T120000
DTSTAMP:20260423T181338
CREATED:20250702T174842Z
LAST-MODIFIED:20250702T174842Z
UID:3567-1752310800-1752321600@aikencoc.com
SUMMARY:Men's Breakfast
DESCRIPTION:We will be having a Men’s Breakfast at the church building on July 12th at 09:00 AM.  We will be having a hearty breakfast of eggs\, bacon\, sausage and gravy.  All men are invited to bring your son’s or a neighbor.
URL:https://aikencoc.com/event/mens-breakfast-4/
LOCATION:Aiken Church of Christ\, 134 Rinehart Way\, Aiken\, SC\, 29803\, United States
END:VEVENT
BEGIN:VEVENT
DTSTART;TZID=America/New_York:20250628T090000
DTEND;TZID=America/New_York:20250628T120000
DTSTAMP:20260423T181338
CREATED:20250314T162100Z
LAST-MODIFIED:20250610T164412Z
UID:2917-1751101200-1751112000@aikencoc.com
SUMMARY:2025 Vacation Bible School (VBS)
DESCRIPTION:VBS REGISTRATION IS OPEN!  The sign-up sheet is in the foyer. \nMark your calendars for VBS Saturday June 28\, 2025.  The theme is “Building God’s House”.  There will be construction themed activities\, decorations\, and surprises. \nThere is a need for help.  Please see Mark and Erica Goldy to sign up to help. \nONLINE REGISTRATION \n 
URL:https://aikencoc.com/event/2025-vacation-bible-school-vbs/
LOCATION:Aiken Church of Christ\, 134 Rinehart Way\, Aiken\, SC\, 29803\, United States
END:VEVENT
BEGIN:VEVENT
DTSTART;TZID=America/New_York:20250620T080000
DTEND;TZID=America/New_York:20250620T170000
DTSTAMP:20260423T181338
CREATED:20250523T134830Z
LAST-MODIFIED:20250523T135014Z
UID:3258-1750406400-1750438800@aikencoc.com
SUMMARY:Faith and Family night at the Green Jackets
DESCRIPTION:The Augusta Green Jackets are hosting a Faith and Family Night on Friday June 20th 2025.   They are playing the Lynchburg Wildcats at SRP park in North Augusta. \nThere is a sign-up sheet on the table in the foyer. \nIf you sign up then there are discount tickets and other perks. \nYou must be signed up before Sunday\, June 1 to get discounts and reserved group seats.
URL:https://aikencoc.com/event/faith-and-family-night-at-the-green-jackets/
LOCATION:SC
END:VEVENT
BEGIN:VEVENT
DTSTART;TZID=America/New_York:20250615T084500
DTEND;TZID=America/New_York:20250615T091500
DTSTAMP:20260423T181338
CREATED:20250602T141318Z
LAST-MODIFIED:20250602T141524Z
UID:3275-1749977100-1749978900@aikencoc.com
SUMMARY:Father's Day Sunday Breakfast
DESCRIPTION:In honor of all the dads and sons on Father’s Day\, there will be a continental breakfast in the activity hall from 8:45 to 9:15.  Stop by and grab a quick bite to eat before class. \n 
URL:https://aikencoc.com/event/fathers-day-sunday-breakfast/
LOCATION:Aiken Church of Christ\, 134 Rinehart Way\, Aiken\, SC\, 29803\, United States
END:VEVENT
BEGIN:VEVENT
DTSTART;TZID=America/New_York:20250607T080000
DTEND;TZID=America/New_York:20250607T170000
DTSTAMP:20260423T181338
CREATED:20250224T143226Z
LAST-MODIFIED:20250224T143226Z
UID:2889-1749283200-1749315600@aikencoc.com
SUMMARY:Ladies Day (Meadowbrook\, Augusta)
DESCRIPTION:Ladies Day\, at the Church of Christ at Meadowbrook\, Augusta\, GA\, June 7th
URL:https://aikencoc.com/event/ladies-day-meadowbrook-augusta/
LOCATION:SC
END:VEVENT
BEGIN:VEVENT
DTSTART;TZID=America/New_York:20250604T080000
DTEND;TZID=America/New_York:20250608T170000
DTSTAMP:20260423T181338
CREATED:20250523T133431Z
LAST-MODIFIED:20250523T133431Z
UID:3252-1749024000-1749402000@aikencoc.com
SUMMARY:Vacation Bible School - South Augusta
DESCRIPTION:South Augusta church in Augusta Georgia will be having a Vacation Bible School June 4-6 & 8.
URL:https://aikencoc.com/event/vacation-bible-school-south-augusta/
LOCATION:SC
END:VEVENT
BEGIN:VEVENT
DTSTART;TZID=America/New_York:20250602T080000
DTEND;TZID=America/New_York:20250602T170000
DTSTAMP:20260423T181338
CREATED:20250602T143819Z
LAST-MODIFIED:20250607T114045Z
UID:3278-1748851200-1748883600@aikencoc.com
SUMMARY:Palmetto Bible Camp
DESCRIPTION:PBC REGISTRATION IS OPEN FOR JUNE 8th THROUGH JULY 26th.  For more information and to register online go to the PBC camp webpage to log in or create an account to register.  Online registration closes one week before each camp week starts. \nPeople from our church will be staffing the following weeks. \nWeek 5 – July 6 – 12\, Junior Week \nWeek 6 – July 13 – 19\, \nWeek 7 – July 20 – 26\, Senior Week \n 
URL:https://aikencoc.com/event/palmetto-bible-camp-2/
LOCATION:Palmetto Bible Camp
END:VEVENT
BEGIN:VEVENT
DTSTART;TZID=America/New_York:20250511T103000
DTEND;TZID=America/New_York:20250511T120000
DTSTAMP:20260423T181338
CREATED:20250414T132214Z
LAST-MODIFIED:20250414T135001Z
UID:3049-1746959400-1746964800@aikencoc.com
SUMMARY:Senior Day!
DESCRIPTION:Sunday\, May 11th we will be celebrating our High School Seniors.
URL:https://aikencoc.com/event/senior-day/
LOCATION:SC
END:VEVENT
END:VCALENDAR