BEGIN:VCALENDAR
VERSION:2.0
PRODID:-//Aiken Church of Christ - ECPv6.15.20//NONSGML v1.0//EN
CALSCALE:GREGORIAN
METHOD:PUBLISH
X-ORIGINAL-URL:https://aikencoc.com
X-WR-CALDESC:Events for Aiken Church of Christ
REFRESH-INTERVAL;VALUE=DURATION:PT1H
X-Robots-Tag:noindex
X-PUBLISHED-TTL:PT1H
BEGIN:VTIMEZONE
TZID:America/New_York
BEGIN:DAYLIGHT
TZOFFSETFROM:-0500
TZOFFSETTO:-0400
TZNAME:EDT
DTSTART:20250309T070000
END:DAYLIGHT
BEGIN:STANDARD
TZOFFSETFROM:-0400
TZOFFSETTO:-0500
TZNAME:EST
DTSTART:20251102T060000
END:STANDARD
BEGIN:DAYLIGHT
TZOFFSETFROM:-0500
TZOFFSETTO:-0400
TZNAME:EDT
DTSTART:20260308T070000
END:DAYLIGHT
BEGIN:STANDARD
TZOFFSETFROM:-0400
TZOFFSETTO:-0500
TZNAME:EST
DTSTART:20261101T060000
END:STANDARD
BEGIN:DAYLIGHT
TZOFFSETFROM:-0500
TZOFFSETTO:-0400
TZNAME:EDT
DTSTART:20270314T070000
END:DAYLIGHT
BEGIN:STANDARD
TZOFFSETFROM:-0400
TZOFFSETTO:-0500
TZNAME:EST
DTSTART:20271107T060000
END:STANDARD
END:VTIMEZONE
BEGIN:VEVENT
DTSTART;TZID=America/New_York:20260515T080000
DTEND;TZID=America/New_York:20260517T170000
DTSTAMP:20260423T150451
CREATED:20260330T150136Z
LAST-MODIFIED:20260330T150136Z
UID:4142-1778832000-1779037200@aikencoc.com
SUMMARY:Young Adult Retreat - Make Me a Servant
DESCRIPTION:Carolina Bible Camp \nLocation: 988 Jericho Church Rd Mocksville\, NC 27028 \nPhone: 336-492-7802
URL:https://aikencoc.com/event/young-adult-retreat-make-me-a-servant/
END:VEVENT
BEGIN:VEVENT
DTSTART;TZID=America/New_York:20260516T080000
DTEND;TZID=America/New_York:20260516T170000
DTSTAMP:20260423T150451
CREATED:20260324T125331Z
LAST-MODIFIED:20260410T160953Z
UID:4124-1778918400-1778950800@aikencoc.com
SUMMARY:Pig Pickin' and Potluck
DESCRIPTION:Instead of the normal April potluck we will have a pig pickin’\, potluck\, and family fun day here at the building on Saturday\, May 16.  Mark your calendars and expect more details.
URL:https://aikencoc.com/event/pig-pickin-and-potluck/
LOCATION:Aiken Church of Christ\, 134 Rinehart Way\, Aiken\, SC\, 29803\, United States
END:VEVENT
END:VCALENDAR