BEGIN:VCALENDAR
VERSION:2.0
PRODID:-//Aiken Church of Christ - ECPv6.15.20//NONSGML v1.0//EN
CALSCALE:GREGORIAN
METHOD:PUBLISH
X-ORIGINAL-URL:https://aikencoc.com
X-WR-CALDESC:Events for Aiken Church of Christ
REFRESH-INTERVAL;VALUE=DURATION:PT1H
X-Robots-Tag:noindex
X-PUBLISHED-TTL:PT1H
BEGIN:VTIMEZONE
TZID:America/New_York
BEGIN:DAYLIGHT
TZOFFSETFROM:-0500
TZOFFSETTO:-0400
TZNAME:EDT
DTSTART:20250309T070000
END:DAYLIGHT
BEGIN:STANDARD
TZOFFSETFROM:-0400
TZOFFSETTO:-0500
TZNAME:EST
DTSTART:20251102T060000
END:STANDARD
BEGIN:DAYLIGHT
TZOFFSETFROM:-0500
TZOFFSETTO:-0400
TZNAME:EDT
DTSTART:20260308T070000
END:DAYLIGHT
BEGIN:STANDARD
TZOFFSETFROM:-0400
TZOFFSETTO:-0500
TZNAME:EST
DTSTART:20261101T060000
END:STANDARD
BEGIN:DAYLIGHT
TZOFFSETFROM:-0500
TZOFFSETTO:-0400
TZNAME:EDT
DTSTART:20270314T070000
END:DAYLIGHT
BEGIN:STANDARD
TZOFFSETFROM:-0400
TZOFFSETTO:-0500
TZNAME:EST
DTSTART:20271107T060000
END:STANDARD
END:VTIMEZONE
BEGIN:VEVENT
DTSTART;TZID=America/New_York:20260418T080000
DTEND;TZID=America/New_York:20260418T170000
DTSTAMP:20260423T133855
CREATED:20260330T141903Z
LAST-MODIFIED:20260330T143835Z
UID:4131-1776499200-1776531600@aikencoc.com
SUMMARY:Ladies Day - Spiritual Disciplines
DESCRIPTION:Ladies Day – Spiritual Disciplines \nSeneca Church of Christ \nAddress: 10833 Clemson Blvd\, Seneca\, SC 29678 \n\n\n\nPhone: 864-654-7105\nWebsite: Seneca church of Christ – Study the Bible with Us!
URL:https://aikencoc.com/event/ladies-day-spiritual-disciplines/
END:VEVENT
BEGIN:VEVENT
DTSTART;TZID=America/New_York:20260418T080000
DTEND;TZID=America/New_York:20260418T170000
DTSTAMP:20260423T133855
CREATED:20260330T142226Z
LAST-MODIFIED:20260330T144033Z
UID:4133-1776499200-1776531600@aikencoc.com
SUMMARY:Plaza Men's Day - Act Like Men
DESCRIPTION:Plaza Men’s Day – Act Like Men \nPlaza Church of Christ \nAddress: 1402 Camden Hwy\, Sumter\, SC 29153 \nPhone: 803-905-3163 \nWebsite: Plaza Church Of Christ – “Speaking in truth and love…” Ephesians 4:15
URL:https://aikencoc.com/event/plaza-mens-day/
END:VEVENT
END:VCALENDAR