BEGIN:VCALENDAR
VERSION:2.0
PRODID:-//Aiken Church of Christ - ECPv6.15.20//NONSGML v1.0//EN
CALSCALE:GREGORIAN
METHOD:PUBLISH
X-ORIGINAL-URL:https://aikencoc.com
X-WR-CALDESC:Events for Aiken Church of Christ
REFRESH-INTERVAL;VALUE=DURATION:PT1H
X-Robots-Tag:noindex
X-PUBLISHED-TTL:PT1H
BEGIN:VTIMEZONE
TZID:America/New_York
BEGIN:DAYLIGHT
TZOFFSETFROM:-0500
TZOFFSETTO:-0400
TZNAME:EDT
DTSTART:20230312T070000
END:DAYLIGHT
BEGIN:STANDARD
TZOFFSETFROM:-0400
TZOFFSETTO:-0500
TZNAME:EST
DTSTART:20231105T060000
END:STANDARD
BEGIN:DAYLIGHT
TZOFFSETFROM:-0500
TZOFFSETTO:-0400
TZNAME:EDT
DTSTART:20240310T070000
END:DAYLIGHT
BEGIN:STANDARD
TZOFFSETFROM:-0400
TZOFFSETTO:-0500
TZNAME:EST
DTSTART:20241103T060000
END:STANDARD
BEGIN:DAYLIGHT
TZOFFSETFROM:-0500
TZOFFSETTO:-0400
TZNAME:EDT
DTSTART:20250309T070000
END:DAYLIGHT
BEGIN:STANDARD
TZOFFSETFROM:-0400
TZOFFSETTO:-0500
TZNAME:EST
DTSTART:20251102T060000
END:STANDARD
END:VTIMEZONE
BEGIN:VEVENT
DTSTART;TZID=America/New_York:20241101T080000
DTEND;TZID=America/New_York:20241104T120000
DTSTAMP:20260424T150413
CREATED:20240826T015938Z
LAST-MODIFIED:20240915T230703Z
UID:2400-1730448000-1730721600@aikencoc.com
SUMMARY:Women's Fall 2024 Retreat
DESCRIPTION:The Women’s Fall Retreat will be held at Hilton Head Island on November 1-4  The cost is $100/person; Pay Cindy Cox by October 6th.  The available slots are full but we have started a waitlist on the sign-up sheet.  See Erica Goldy for more information. \nThere is limited parking at the house we rented for the retreat to 6 cars.  Please let Erica Goldy know if you can drive\, and how many passengers you can take\, and when you are going down and coming back.  There is a sign-up sheet for the carpool on the table in the foyer.
URL:https://aikencoc.com/event/womens-fall-2024-retreat/
END:VEVENT
END:VCALENDAR