BEGIN:VCALENDAR
VERSION:2.0
PRODID:-//Aiken Church of Christ - ECPv6.15.20//NONSGML v1.0//EN
CALSCALE:GREGORIAN
METHOD:PUBLISH
X-WR-CALNAME:Aiken Church of Christ
X-ORIGINAL-URL:https://aikencoc.com
X-WR-CALDESC:Events for Aiken Church of Christ
REFRESH-INTERVAL;VALUE=DURATION:PT1H
X-Robots-Tag:noindex
X-PUBLISHED-TTL:PT1H
BEGIN:VTIMEZONE
TZID:America/New_York
BEGIN:DAYLIGHT
TZOFFSETFROM:-0500
TZOFFSETTO:-0400
TZNAME:EDT
DTSTART:20230312T070000
END:DAYLIGHT
BEGIN:STANDARD
TZOFFSETFROM:-0400
TZOFFSETTO:-0500
TZNAME:EST
DTSTART:20231105T060000
END:STANDARD
BEGIN:DAYLIGHT
TZOFFSETFROM:-0500
TZOFFSETTO:-0400
TZNAME:EDT
DTSTART:20240310T070000
END:DAYLIGHT
BEGIN:STANDARD
TZOFFSETFROM:-0400
TZOFFSETTO:-0500
TZNAME:EST
DTSTART:20241103T060000
END:STANDARD
BEGIN:DAYLIGHT
TZOFFSETFROM:-0500
TZOFFSETTO:-0400
TZNAME:EDT
DTSTART:20250309T070000
END:DAYLIGHT
BEGIN:STANDARD
TZOFFSETFROM:-0400
TZOFFSETTO:-0500
TZNAME:EST
DTSTART:20251102T060000
END:STANDARD
END:VTIMEZONE
BEGIN:VEVENT
DTSTART;TZID=America/New_York:20240907T080000
DTEND;TZID=America/New_York:20240907T170000
DTSTAMP:20260424T175153
CREATED:20240815T130836Z
LAST-MODIFIED:20240817T153649Z
UID:2368-1725696000-1725728400@aikencoc.com
SUMMARY:The Churches of Christ Salute You
DESCRIPTION:“CHURCHES OF CHRIST SALUTE YOU” EVENT \n\nSeptember 7\nAugusta Commons\nWe need supplies\, volunteers to prepare materials for the booth\, and volunteers to greet visitors to our booth\n\nSupply items still needed are on the board in the foyer – see Lisa Fountain with any questions.\nBring the items you purchase and put them in the basket under the board\nThe sign-up sheet for manning our booth is on the foyer table\nNOTE: – We are NOT collecting clothes.\n\n\n\n10:00    South Augusta     WELCOME\, Word & Singing \n10:20    Central                   Singing and Mini Lesson \n10:40    Grace Street          The Word and Singing Group \n11:00    Country Club Church of Christ Singing Group \n11:40    Hwy 56                    The Word and Singing Group \n12:00    Westside                 The Word and Singing Group \n12:20    Meadowbrook       The Word and Singing Group \n12:40    D’Antignac             The Word and Singing Group \nAlso available: An Assortment of Vendors\, Food\, Clothing Giveaway\, Kids Zone
URL:https://aikencoc.com/event/the-churches-of-christ-salute-you/
LOCATION:Augusta Commons\, 836 Reynolds Street\, Augusta\, GA\, 30901\, United States
END:VEVENT
END:VCALENDAR