BEGIN:VCALENDAR
VERSION:2.0
PRODID:-//Aiken Church of Christ - ECPv6.15.20//NONSGML v1.0//EN
CALSCALE:GREGORIAN
METHOD:PUBLISH
X-ORIGINAL-URL:https://aikencoc.com
X-WR-CALDESC:Events for Aiken Church of Christ
REFRESH-INTERVAL;VALUE=DURATION:PT1H
X-Robots-Tag:noindex
X-PUBLISHED-TTL:PT1H
BEGIN:VTIMEZONE
TZID:America/New_York
BEGIN:DAYLIGHT
TZOFFSETFROM:-0500
TZOFFSETTO:-0400
TZNAME:EDT
DTSTART:20230312T070000
END:DAYLIGHT
BEGIN:STANDARD
TZOFFSETFROM:-0400
TZOFFSETTO:-0500
TZNAME:EST
DTSTART:20231105T060000
END:STANDARD
BEGIN:DAYLIGHT
TZOFFSETFROM:-0500
TZOFFSETTO:-0400
TZNAME:EDT
DTSTART:20240310T070000
END:DAYLIGHT
BEGIN:STANDARD
TZOFFSETFROM:-0400
TZOFFSETTO:-0500
TZNAME:EST
DTSTART:20241103T060000
END:STANDARD
BEGIN:DAYLIGHT
TZOFFSETFROM:-0500
TZOFFSETTO:-0400
TZNAME:EDT
DTSTART:20250309T070000
END:DAYLIGHT
BEGIN:STANDARD
TZOFFSETFROM:-0400
TZOFFSETTO:-0500
TZNAME:EST
DTSTART:20251102T060000
END:STANDARD
END:VTIMEZONE
BEGIN:VEVENT
DTSTART;TZID=America/New_York:20240525T100000
DTEND;TZID=America/New_York:20240525T120000
DTSTAMP:20260424T233008
CREATED:20240520T205105Z
LAST-MODIFIED:20240520T205105Z
UID:2209-1716631200-1716638400@aikencoc.com
SUMMARY:Ladies Day of Encouragement
DESCRIPTION:We have the opportunity to spread some encouragement to our church family. \nCome join us Saturday May 25 at 10:00 AM.  Coffee and goodies are provided.
URL:https://aikencoc.com/event/ladies-day-of-encouragement/
LOCATION:Aiken Church of Christ\, 134 Rinehart Way\, Aiken\, SC\, 29803\, United States
END:VEVENT
END:VCALENDAR