BEGIN:VCALENDAR
VERSION:2.0
PRODID:-//Aiken Church of Christ - ECPv6.15.20//NONSGML v1.0//EN
CALSCALE:GREGORIAN
METHOD:PUBLISH
X-WR-CALNAME:Aiken Church of Christ
X-ORIGINAL-URL:https://aikencoc.com
X-WR-CALDESC:Events for Aiken Church of Christ
REFRESH-INTERVAL;VALUE=DURATION:PT1H
X-Robots-Tag:noindex
X-PUBLISHED-TTL:PT1H
BEGIN:VTIMEZONE
TZID:America/New_York
BEGIN:DAYLIGHT
TZOFFSETFROM:-0500
TZOFFSETTO:-0400
TZNAME:EDT
DTSTART:20230312T070000
END:DAYLIGHT
BEGIN:STANDARD
TZOFFSETFROM:-0400
TZOFFSETTO:-0500
TZNAME:EST
DTSTART:20231105T060000
END:STANDARD
BEGIN:DAYLIGHT
TZOFFSETFROM:-0500
TZOFFSETTO:-0400
TZNAME:EDT
DTSTART:20240310T070000
END:DAYLIGHT
BEGIN:STANDARD
TZOFFSETFROM:-0400
TZOFFSETTO:-0500
TZNAME:EST
DTSTART:20241103T060000
END:STANDARD
BEGIN:DAYLIGHT
TZOFFSETFROM:-0500
TZOFFSETTO:-0400
TZNAME:EDT
DTSTART:20250309T070000
END:DAYLIGHT
BEGIN:STANDARD
TZOFFSETFROM:-0400
TZOFFSETTO:-0500
TZNAME:EST
DTSTART:20251102T060000
END:STANDARD
END:VTIMEZONE
BEGIN:VEVENT
DTSTART;TZID=America/New_York:20240519T103000
DTEND;TZID=America/New_York:20240519T120000
DTSTAMP:20260424T233001
CREATED:20240509T192048Z
LAST-MODIFIED:20240509T192048Z
UID:2182-1716114600-1716120000@aikencoc.com
SUMMARY:Celebrate Our Seniors!
DESCRIPTION:During our morning service on Sunday May 19 we will have a celebration of our High School Seniors \nThere will be a table for cards and /or gifts set up that morning. \nSee Bob King if you need more information.
URL:https://aikencoc.com/event/celebrate-our-seniors/
LOCATION:Aiken Church of Christ\, 134 Rinehart Way\, Aiken\, SC\, 29803\, United States
END:VEVENT
END:VCALENDAR